Felt | Verdi |
AlreadyApplied | True |
Artist | Arild Thingvoll |
AutoLateralCA | 1 |
AutoWhiteVersion | 134348800 |
BitsPerSample | 8 |
Blacks2012 | 0 |
BlueHue | 0 |
BlueSaturation | 0 |
By-line | Arild Thingvoll |
CameraProfile | Embedded |
Clarity2012 | +21 |
ColorComponents | 3 |
ColorNoiseReduction | 0 |
ColorTransform | YCbCr |
Contrast2012 | +5 |
ConvertToGrayscale | False |
Copyright | © Arild Thingvoll |
CopyrightNotice | © Arild Thingvoll |
CreateDate | 2015:05:25 21:34:14 |
Creator | Arild Thingvoll |
CreatorAddress | Ligtvor |
CreatorCity | Vik i Sogn |
CreatorCountry | Norway |
CreatorPostalCode | 6893 |
CreatorRegion | Sogn og Fjordane |
CreatorTool | Adobe Photoshop Lightroom 6.0 (Windows) |
CreatorWorkEmail | athingvoll@gmail.com |
CreatorWorkTelephone | 91584513 |
CropAngle | 0 |
CropBottom | 1 |
CropConstrainToWarp | 0 |
CropLeft | 0 |
CropRight | 0.993884 |
CropTop | 0.053921 |
DateCreated (1) | 2015:05:25 21:34:14 |
DateCreated | 2015:05:25 |
DateTimeOriginal | 2015:05:25 21:34:14 |
DefringeGreenAmount | 0 |
DefringeGreenHueHi | 60 |
DefringeGreenHueLo | 40 |
DefringePurpleAmount | 0 |
DefringePurpleHueHi | 70 |
DefringePurpleHueLo | 30 |
Exposure2012 | 0.00 |
Format | image/jpeg |
GrainAmount | 0 |
GreenHue | 0 |
GreenSaturation | 0 |
HasCrop | True |
HasSettings | True |
Highlights2012 | 0 |
HueAdjustmentAqua | 0 |
HueAdjustmentBlue | 0 |
HueAdjustmentGreen | 0 |
HueAdjustmentMagenta | 0 |
HueAdjustmentOrange | +4 |
HueAdjustmentPurple | -2 |
HueAdjustmentRed | -18 |
HueAdjustmentYellow | 0 |
ImageHeight | 800 |
ImageSize | 674x800 |
ImageWidth | 674 |
IncrementalTemperature | 0 |
IncrementalTint | 0 |
ISO | 1250 |
Keywords | Makro, skogstjerne, trippel |
Lens | XF60mmF2.4 R Macro |
LensInfo | 60mm f/2.4 |
LensManualDistortionAmount | 0 |
LensModel | XF60mmF2.4 R Macro |
LensProfileEnable | 1 |
LensProfileSetup | LensDefaults |
LensSerialNumber | 22A06806 |
LuminanceAdjustmentAqua | 0 |
LuminanceAdjustmentBlue | 0 |
LuminanceAdjustmentGreen | -42 |
LuminanceAdjustmentMagenta | 0 |
LuminanceAdjustmentOrange | +16 |
LuminanceAdjustmentPurple | 0 |
LuminanceAdjustmentRed | 0 |
LuminanceAdjustmentYellow | -20 |
LuminanceSmoothing | 0 |
Make | FUJIFILM |
Megapixels | 0.539 |
Model | X-T1 |
ModifyDate (1) | 2015:05:27 22:06:22+02:00 |
ModifyDate | 2015:05:27 22:06:22 |
Orientation | Horizontal (normal) |
ParametricDarks | +9 |
ParametricHighlights | +13 |
ParametricHighlightSplit | 75 |
ParametricLights | +9 |
ParametricMidtoneSplit | 50 |
ParametricShadows | +9 |
ParametricShadowSplit | 25 |
PerspectiveAspect | 0 |
PerspectiveHorizontal | 0 |
PerspectiveRotate | 0.0 |
PerspectiveScale | 100 |
PerspectiveUpright | 0 |
PerspectiveVertical | 0 |
PostCropVignetteAmount | -7 |
PostCropVignetteFeather | 89 |
PostCropVignetteHighlightContrast | 57 |
PostCropVignetteMidpoint | 70 |
PostCropVignetteRoundness | +7 |
PostCropVignetteStyle | 1 |
ProcessVersion | 6.7 |
ProfileDescription | sRGB IEC61966-2.1 |
RawFileName | A. Thingvoll_2015_00025-24-Edit-Edit.jpg |
RedHue | 0 |
RedSaturation | 0 |
Rights | © Arild Thingvoll |
Saturation | 0 |
SaturationAdjustmentAqua | 0 |
SaturationAdjustmentBlue | 0 |
SaturationAdjustmentGreen | +27 |
SaturationAdjustmentMagenta | 0 |
SaturationAdjustmentOrange | +9 |
SaturationAdjustmentPurple | -7 |
SaturationAdjustmentRed | 0 |
SaturationAdjustmentYellow | +9 |
Shadows2012 | 0 |
ShadowTint | 0 |
SharpenDetail | 25 |
SharpenEdgeMasking | 0 |
SharpenRadius | +1.0 |
Sharpness | 0 |
Software | Adobe Photoshop Lightroom 6.0 (Windows) |
SplitToningBalance | 0 |
SplitToningHighlightHue | 0 |
SplitToningHighlightSaturation | 0 |
SplitToningShadowHue | 0 |
SplitToningShadowSaturation | 0 |
Subject | Makro, skogstjerne, trippel |
ToneCurve | 0, 0, 255, 255 |
ToneCurveBlue | 0, 0, 255, 255 |
ToneCurveGreen | 0, 0, 255, 255 |
ToneCurveName | Linear |
ToneCurveName2012 | Linear |
ToneCurvePV2012 | 0, 0, 255, 255 |
ToneCurvePV2012Blue | 0, 0, 255, 255 |
ToneCurvePV2012Green | 0, 0, 255, 255 |
ToneCurvePV2012Red | 0, 0, 255, 255 |
ToneCurveRed | 0, 0, 255, 255 |
Version | 9.0 |
Vibrance | -2 |
VignetteAmount | 0 |
WhiteBalance | As Shot |
Whites2012 | 0 |