Felt | Verdi |
AlreadyApplied | True |
Aperture | 5.6 |
ApertureValue | 5.6 |
AutoLateralCA | 0 |
AutoWhiteVersion | 134348800 |
BitsPerSample | 8 |
Blacks2012 | 0 |
BlueHue | 0 |
BlueSaturation | 0 |
CameraProfile | Embedded |
CircleOfConfusion | 0.030 mm |
Clarity2012 | +19 |
ColorComponents | 3 |
ColorNoiseReduction | 0 |
ColorSpace | sRGB |
ColorTransform | YCbCr |
Contrast2012 | +83 |
ConvertToGrayscale | False |
CreateDate | 2015:12:21 11:51:40 |
CreatorTool | Adobe Photoshop Lightroom 5.7.1 (Windows) |
DateCreated (1) | 2015:12:21 11:51:40 |
DateCreated | 2015:12:21 |
DateTimeOriginal | 2015:12:21 11:51:40 |
DefringeGreenAmount | 0 |
DefringeGreenHueHi | 60 |
DefringeGreenHueLo | 40 |
DefringePurpleAmount | 0 |
DefringePurpleHueHi | 70 |
DefringePurpleHueLo | 30 |
ExifImageHeight | 782 |
ExifImageWidth | 2400 |
Exposure2012 | 0.00 |
ExposureTime | 1/640 |
FNumber | 5.6 |
FocalLength | 162.5 mm |
FocalLength35efl | 162.5 mm (35 mm equivalent: 163.0 mm) |
FocalLengthIn35mmFormat | 163 mm |
Format | image/jpeg |
FOV | 12.6 deg |
GradientBasedCorrActive | true |
GradientBasedCorrAmount | 1.000000 |
GradientBasedCorrBrightness | 0.000000 |
GradientBasedCorrClarity2012 (1) | 0.747130 |
GradientBasedCorrClarity2012 (2) | 0.000000 |
GradientBasedCorrClarity2012 | 0.655170 |
GradientBasedCorrContrast2012 (1) | 0.816090 |
GradientBasedCorrContrast2012 (2) | 0.000000 |
GradientBasedCorrContrast2012 | 0.701150 |
GradientBasedCorrDefringe | 0.000000 |
GradientBasedCorrExposure2012 (1) | -0.172500 |
GradientBasedCorrExposure2012 (2) | -0.195500 |
GradientBasedCorrExposure2012 (3) | -0.264250 |
GradientBasedCorrExposure2012 | 0.000000 |
GradientBasedCorrHighlights2012 (3) | 0.793100 |
GradientBasedCorrHighlights2012 | 0.000000 |
GradientBasedCorrHue | 240.000000 |
GradientBasedCorrLuminanceNoise | 0.000000 |
GradientBasedCorrMaskFullX (1) | 0.760747 |
GradientBasedCorrMaskFullX (2) | 0.185093 |
GradientBasedCorrMaskFullX (3) | 0.796734 |
GradientBasedCorrMaskFullX | 0.002396 |
GradientBasedCorrMaskFullY (1) | 0.095585 |
GradientBasedCorrMaskFullY (2) | 0.995902 |
GradientBasedCorrMaskFullY (3) | 0.985830 |
GradientBasedCorrMaskFullY | 0.484736 |
GradientBasedCorrMaskValue | 1.000000 |
GradientBasedCorrMaskWhat | Mask/Gradient |
GradientBasedCorrMaskZeroX (1) | 0.704452 |
GradientBasedCorrMaskZeroX (2) | 0.189039 |
GradientBasedCorrMaskZeroX (3) | 0.790586 |
GradientBasedCorrMaskZeroX | 0.321330 |
GradientBasedCorrMaskZeroY (1) | 0.612245 |
GradientBasedCorrMaskZeroY (2) | 0.821569 |
GradientBasedCorrMaskZeroY (3) | 0.847810 |
GradientBasedCorrMaskZeroY | 0.273873 |
GradientBasedCorrMoire | 0.000000 |
GradientBasedCorrSaturation | 0.000000 |
GradientBasedCorrShadows2012 (2) | 0.000000 |
GradientBasedCorrShadows2012 (3) | -0.011490 |
GradientBasedCorrShadows2012 | -0.448280 |
GradientBasedCorrSharpness | 0.000000 |
GradientBasedCorrTemperature | 0.000000 |
GradientBasedCorrTint | 0.000000 |
GradientBasedCorrWhat | Correction |
GrainAmount | 0 |
GreenHue | 0 |
GreenSaturation | 0 |
HasCrop | False |
HasSettings | True |
Highlights2012 | -69 |
HueAdjustmentAqua | 0 |
HueAdjustmentBlue | 0 |
HueAdjustmentGreen | 0 |
HueAdjustmentMagenta | 0 |
HueAdjustmentOrange | 0 |
HueAdjustmentPurple | 0 |
HueAdjustmentRed | 0 |
HueAdjustmentYellow | 0 |
HyperfocalDistance | 157.43 m |
ImageHeight | 782 |
ImageSize | 2400x782 |
ImageWidth | 2400 |
IncrementalTemperature | +26 |
IncrementalTint | 0 |
ISO | 250 |
LensManualDistortionAmount | -10 |
LensProfileEnable | 0 |
LensProfileSetup | LensDefaults |
LightValue | 13.0 |
LuminanceAdjustmentAqua | 0 |
LuminanceAdjustmentBlue | -31 |
LuminanceAdjustmentGreen | 0 |
LuminanceAdjustmentMagenta | 0 |
LuminanceAdjustmentOrange | 0 |
LuminanceAdjustmentPurple | 0 |
LuminanceAdjustmentRed | 0 |
LuminanceAdjustmentYellow | 0 |
LuminanceSmoothing | 0 |
Megapixels | 1.9 |
ModifyDate (1) | 2015:12:29 11:47:59+01:00 |
ModifyDate | 2015:12:29 11:47:59 |
Orientation | Horizontal (normal) |
PaintCorrectionActive | true |
PaintCorrectionAmount | 1.000000 |
PaintCorrectionBrightness | 0.000000 |
PaintCorrectionClarity2012 (5) | 0.816090 |
PaintCorrectionClarity2012 | 0.000000 |
PaintCorrectionContrast2012 (2) | 0.011490 |
PaintCorrectionContrast2012 (3) | 0.195400 |
PaintCorrectionContrast2012 | 0.000000 |
PaintCorrectionDefringe | 0.000000 |
PaintCorrectionExposure2012 (1) | 0.218500 |
PaintCorrectionExposure2012 (3) | -0.057500 |
PaintCorrectionExposure2012 (4) | 0.195500 |
PaintCorrectionExposure2012 (5) | 0.000000 |
PaintCorrectionExposure2012 (7) | 0.126500 |
PaintCorrectionExposure2012 | -0.034500 |
PaintCorrectionHighlights2012 | 0.000000 |
PaintCorrectionHue | 240.000000 |
PaintCorrectionLuminanceNoise | 0.000000 |
PaintCorrectionMaskCenterWeight | 0.092470 |
PaintCorrectionMaskFlow | 0.944000 |
PaintCorrectionMaskRadius (1) | 0.081453 |
PaintCorrectionMaskRadius (10) | 0.009551 |
PaintCorrectionMaskRadius (11) | 0.009556 |
PaintCorrectionMaskRadius (12) | 0.009453 |
PaintCorrectionMaskRadius (13) | 0.120609 |
PaintCorrectionMaskRadius (14) | 0.123643 |
PaintCorrectionMaskRadius (15) | 0.094311 |
PaintCorrectionMaskRadius (16) | 0.093687 |
PaintCorrectionMaskRadius (17) | 0.085255 |
PaintCorrectionMaskRadius (18) | 0.085157 |
PaintCorrectionMaskRadius (19) | 0.085095 |
PaintCorrectionMaskRadius (2) | 0.081713 |
PaintCorrectionMaskRadius (3) | 0.124317 |
PaintCorrectionMaskRadius (4) | 0.064400 |
PaintCorrectionMaskRadius (5) | 0.118304 |
PaintCorrectionMaskRadius (6) | 0.118102 |
PaintCorrectionMaskRadius (7) | 0.126242 |
PaintCorrectionMaskRadius (8) | 0.119300 |
PaintCorrectionMaskRadius (9) | 0.118874 |
PaintCorrectionMaskRadius | 0.062829 |
PaintCorrectionMaskValue | 1.000000 |
PaintCorrectionMaskWhat | Mask/Paint |
PaintCorrectionMoire | 0.000000 |
PaintCorrectionSaturation | 0.000000 |
PaintCorrectionShadows2012 (5) | -0.310340 |
PaintCorrectionShadows2012 | 0.000000 |
PaintCorrectionSharpness | 0.000000 |
PaintCorrectionTemperature (1) | 0.333330 |
PaintCorrectionTemperature (6) | 0.172410 |
PaintCorrectionTemperature (7) | 0.011490 |
PaintCorrectionTemperature | 0.000000 |
PaintCorrectionTint | 0.000000 |
PaintCorrectionWhat | Correction |
ParametricDarks | -18 |
ParametricHighlights | 0 |
ParametricHighlightSplit | 75 |
ParametricLights | -32 |
ParametricMidtoneSplit | 50 |
ParametricShadows | 0 |
ParametricShadowSplit | 25 |
PerspectiveAspect | 0 |
PerspectiveHorizontal | 0 |
PerspectiveRotate | 0.0 |
PerspectiveScale | 100 |
PerspectiveUpright | 0 |
PerspectiveVertical | 0 |
PostCropVignetteAmount | 0 |
ProcessVersion | 6.7 |
ProfileDescription | sRGB v1.31 (Canon) |
RedHue | 0 |
RedSaturation | 0 |
RelatedImageHeight | 782 |
RelatedImageWidth | 2400 |
Saturation | 0 |
SaturationAdjustmentAqua | 0 |
SaturationAdjustmentBlue | -29 |
SaturationAdjustmentGreen | 0 |
SaturationAdjustmentMagenta | 0 |
SaturationAdjustmentOrange | 0 |
SaturationAdjustmentPurple | 0 |
SaturationAdjustmentRed | 0 |
SaturationAdjustmentYellow | 0 |
ScaleFactor35efl | 1.0 |
Shadows2012 | -43 |
ShadowTint | 0 |
SharpenDetail | 4 |
SharpenEdgeMasking | 48 |
SharpenRadius | +1.0 |
Sharpness | 48 |
ShutterSpeed | 1/640 |
ShutterSpeedValue | 1/640 |
Software | Digital Photo Professional |
SplitToningBalance | 0 |
SplitToningHighlightHue | 54 |
SplitToningHighlightSaturation | 9 |
SplitToningShadowHue | 225 |
SplitToningShadowSaturation | 23 |
ToneCurve | 0, 0, 255, 255 |
ToneCurveBlue | 0, 0, 255, 255 |
ToneCurveGreen | 0, 0, 255, 255 |
ToneCurveName | Linear |
ToneCurveName2012 | Linear |
ToneCurvePV2012 | 0, 0, 255, 255 |
ToneCurvePV2012Blue | 0, 0, 255, 255 |
ToneCurvePV2012Green | 0, 0, 255, 255 |
ToneCurvePV2012Red | 0, 0, 255, 255 |
ToneCurveRed | 0, 0, 255, 255 |
Version | 8.7.1 |
Vibrance | -17 |
VignetteAmount | 0 |
WhiteBalance | Custom |
Whites2012 | -67 |