Felt | Verdi |
AlreadyApplied | True |
Aperture | 16.0 |
ApertureValue | 16.0 |
ApproximateFocusDistance | 1.45 |
Artist | Håvard Walle Stokke |
AutoLateralCA | 0 |
AutoWhiteVersion | 134348800 |
BitsPerSample (1) | 8 8 8 |
BitsPerSample | 8 |
Blacks2012 | +13 |
BlueHue | 0 |
BlueSaturation | 0 |
By-line | Håvard Walle Stokke |
CameraProfile | Adobe Standard |
CircGradBasedCorrActive | true |
CircGradBasedCorrAmount | 1.000000 |
CircGradBasedCorrBrightness | 0.000000 |
CircGradBasedCorrClarity2012 | 0.000000 |
CircGradBasedCorrContrast2012 | 0.000000 |
CircGradBasedCorrDefringe | 0.000000 |
CircGradBasedCorrExposure2012 (1) | 0.000000 |
CircGradBasedCorrExposure2012 | 0.250000 |
CircGradBasedCorrHighlights2012 | 0.000000 |
CircGradBasedCorrHue | 240.000000 |
CircGradBasedCorrLocalBlacks2012 | 0.000000 |
CircGradBasedCorrLocalDehaze | 0.000000 |
CircGradBasedCorrLocalWhites2012 | 0.000000 |
CircGradBasedCorrLuminanceNoise | 0.000000 |
CircGradBasedCorrMaskAngle (1) | 13.770400 |
CircGradBasedCorrMaskAngle (2) | 0.000000 |
CircGradBasedCorrMaskAngle | 12.430700 |
CircGradBasedCorrMaskBottom (1) | 1.222310 |
CircGradBasedCorrMaskBottom (2) | 0.271216 |
CircGradBasedCorrMaskBottom (3) | 0.393239 |
CircGradBasedCorrMaskBottom | 1.122650 |
CircGradBasedCorrMaskFeather | +94 |
CircGradBasedCorrMaskFlipped | true |
CircGradBasedCorrMaskLeft (1) | 0.433352 |
CircGradBasedCorrMaskLeft (2) | 0.389363 |
CircGradBasedCorrMaskLeft (3) | 0.325151 |
CircGradBasedCorrMaskLeft | 0.466907 |
CircGradBasedCorrMaskMidpoint | +50 |
CircGradBasedCorrMaskRight (1) | 0.463076 |
CircGradBasedCorrMaskRight (2) | 0.515048 |
CircGradBasedCorrMaskRight (3) | 0.531547 |
CircGradBasedCorrMaskRight | 0.490258 |
CircGradBasedCorrMaskRoundness | 0 |
CircGradBasedCorrMaskTop (1) | 0.583032 |
CircGradBasedCorrMaskTop (2) | -0.105527 |
CircGradBasedCorrMaskTop (3) | -0.127060 |
CircGradBasedCorrMaskTop | 0.525838 |
CircGradBasedCorrMaskValue | 1.000000 |
CircGradBasedCorrMaskVersion | +2 |
CircGradBasedCorrMaskWhat | Mask/CircularGradient |
CircGradBasedCorrMoire | 0.000000 |
CircGradBasedCorrSaturation (3) | 0.370046 |
CircGradBasedCorrSaturation | 0.000000 |
CircGradBasedCorrShadows2012 | 0.000000 |
CircGradBasedCorrSharpness | 0.000000 |
CircGradBasedCorrTemperature | 0.000000 |
CircGradBasedCorrTint | 0.000000 |
CircGradBasedCorrWhat | Correction |
CircleOfConfusion | 0.017 mm |
Clarity2012 | 0 |
ColorComponents | 3 |
ColorMode | RGB |
ColorNoiseReduction | 25 |
ColorNoiseReductionDetail | 50 |
ColorNoiseReductionSmoothness | 50 |
ColorSpace | sRGB |
ColorTemperature | 6250 |
ColorTransform | YCbCr |
Contrast2012 | 0 |
ConvertToGrayscale | False |
Copyright | Håvard Walle Stokke |
CopyrightFlag | True |
CopyrightNotice | Håvard Walle Stokke |
CreateDate | 2016:03:27 12:25:29 |
Creator | Håvard Walle Stokke |
CreatorAddress | Arnesenga 2 e |
CreatorCountry | Norge |
CreatorPostalCode | 1340 |
CreatorRegion | Skui |
CreatorTool | Adobe Photoshop Lightroom 6.5 (Macintosh) |
CreatorWorkEmail | haavard@stokkefotografi.no |
CreatorWorkTelephone | 41224579 |
CreatorWorkURL | www.stokkefotografi.no |
CropAngle | 0 |
CropBottom | 1 |
CropConstrainToWarp | 0 |
CropLeft | 0.033333 |
CropRight | 0.966667 |
CropTop | 0 |
CustomRendered | Normal |
DateCreated (1) | 2016:03:27 |
DateCreated | 2016:03:27 12:25:29.015 |
DateTimeOriginal | 2016:03:27 12:25:29 |
DefringeGreenAmount | 0 |
DefringeGreenHueHi | 60 |
DefringeGreenHueLo | 40 |
DefringePurpleAmount | 0 |
DefringePurpleHueHi | 70 |
DefringePurpleHueLo | 30 |
Dehaze | 0 |
DOF | inf (0.30 m - inf) |
ExifImageHeight | 4735 |
ExifImageWidth | 3485 |
Exposure2012 | 0.00 |
ExposureCompensation | 0 |
ExposureMode | Manual |
ExposureProgram | Manual |
ExposureTime | 1/13 |
Firmware | 1.0.2 |
Flash | Off, Did not fire |
FlashCompensation | 0 |
FNumber | 16.0 |
FocalLength | 10.0 mm |
FocalLength35efl | 10.0 mm (35 mm equivalent: 18.0 mm) |
Format | image/jpeg |
FOV | 90.2 deg |
GradientBasedCorrActive | true |
GradientBasedCorrAmount | 1.000000 |
GradientBasedCorrBrightness | 0.000000 |
GradientBasedCorrClarity2012 | 0.000000 |
GradientBasedCorrContrast2012 | 0.000000 |
GradientBasedCorrDefringe | 0.000000 |
GradientBasedCorrExposure2012 (1) | -0.125000 |
GradientBasedCorrExposure2012 (3) | 0.250000 |
GradientBasedCorrExposure2012 | 0.000000 |
GradientBasedCorrHighlights2012 | 0.000000 |
GradientBasedCorrHue | 240.000000 |
GradientBasedCorrLocalBlacks2012 (6) | -0.403582 |
GradientBasedCorrLocalBlacks2012 | 0.000000 |
GradientBasedCorrLocalDehaze | 0.000000 |
GradientBasedCorrLocalWhites2012 (5) | 1.000000 |
GradientBasedCorrLocalWhites2012 | 0.000000 |
GradientBasedCorrLuminanceNoise | 0.000000 |
GradientBasedCorrMaskFullX (1) | 0.979337 |
GradientBasedCorrMaskFullX (2) | 0.037100 |
GradientBasedCorrMaskFullX (3) | 0.008409 |
GradientBasedCorrMaskFullX (4) | 0.979022 |
GradientBasedCorrMaskFullX (5) | 0.971563 |
GradientBasedCorrMaskFullX (6) | 0.009987 |
GradientBasedCorrMaskFullX | 0.969881 |
GradientBasedCorrMaskFullY (1) | 0.581252 |
GradientBasedCorrMaskFullY (2) | 0.657058 |
GradientBasedCorrMaskFullY (3) | 0.640250 |
GradientBasedCorrMaskFullY (4) | 0.545363 |
GradientBasedCorrMaskFullY (5) | 0.539062 |
GradientBasedCorrMaskFullY (6) | 0.635697 |
GradientBasedCorrMaskFullY | 0.539940 |
GradientBasedCorrMaskValue | 1.000000 |
GradientBasedCorrMaskWhat | Mask/Gradient |
GradientBasedCorrMaskZeroX (1) | 0.427825 |
GradientBasedCorrMaskZeroX (2) | 0.272291 |
GradientBasedCorrMaskZeroX (3) | 0.271975 |
GradientBasedCorrMaskZeroX (4) | 0.487308 |
GradientBasedCorrMaskZeroX (5) | 0.444323 |
GradientBasedCorrMaskZeroX (6) | 0.236141 |
GradientBasedCorrMaskZeroX | 0.461349 |
GradientBasedCorrMaskZeroY (1) | 0.575477 |
GradientBasedCorrMaskZeroY (2) | 0.607338 |
GradientBasedCorrMaskZeroY (3) | 0.602786 |
GradientBasedCorrMaskZeroY (4) | 0.542040 |
GradientBasedCorrMaskZeroY (5) | 0.517708 |
GradientBasedCorrMaskZeroY (6) | 0.557446 |
GradientBasedCorrMaskZeroY | 0.527684 |
GradientBasedCorrMoire | 0.000000 |
GradientBasedCorrSaturation (3) | 0.366521 |
GradientBasedCorrSaturation (7) | 0.442264 |
GradientBasedCorrSaturation | 0.000000 |
GradientBasedCorrShadows2012 | 0.000000 |
GradientBasedCorrSharpness | 0.000000 |
GradientBasedCorrTemperature | 0.000000 |
GradientBasedCorrTint | 0.000000 |
GradientBasedCorrWhat | Correction |
GrainAmount | 0 |
GreenHue | 0 |
GreenSaturation | 0 |
HasCrop | True |
HasSettings | True |
Highlights2012 | 0 |
HueAdjustmentAqua | 0 |
HueAdjustmentBlue | 0 |
HueAdjustmentGreen | 0 |
HueAdjustmentMagenta | 0 |
HueAdjustmentOrange | 0 |
HueAdjustmentPurple | 0 |
HueAdjustmentRed | 0 |
HueAdjustmentYellow | 0 |
HyperfocalDistance | 0.37 m |
ICCProfileName | sRGB IEC61966-2.1 |
ImageHeight (1) | 5107 |
ImageHeight | 4735 |
ImageNumber | 0 |
ImageSize | 3485x4735 |
ImageWidth (1) | 3648 |
ImageWidth | 3485 |
ISO | 100 |
Lens | 10-20mm |
LensID (1) | 152 |
LensID | Sigma 10-20mm f/4-5.6 |
LensInfo | 10-20mm f/? |
LensManualDistortionAmount | 0 |
LensModel | 10-20mm |
LensProfileEnable | 0 |
LensProfileSetup | LensDefaults |
LensSerialNumber | 0000000000 |
LightValue | 11.7 |
LuminanceAdjustmentAqua | 0 |
LuminanceAdjustmentBlue | 0 |
LuminanceAdjustmentGreen | 0 |
LuminanceAdjustmentMagenta | 0 |
LuminanceAdjustmentOrange | 0 |
LuminanceAdjustmentPurple | 0 |
LuminanceAdjustmentRed | 0 |
LuminanceAdjustmentYellow | 0 |
LuminanceSmoothing | 0 |
Make | Canon |
Marked | True |
MaxApertureValue | 4.0 |
Megapixels | 16.5 |
MeteringMode | Multi-segment |
Model | Canon EOS 7D Mark II |
ModifyDate (1) | 2017:05:10 20:14:39+02:00 |
ModifyDate | 2017:05:10 20:14:39 |
Orientation | Horizontal (normal) |
PaintCorrectionActive | true |
PaintCorrectionAmount | 1.000000 |
PaintCorrectionBrightness | 0.000000 |
PaintCorrectionClarity2012 | 0.413396 |
PaintCorrectionContrast2012 | 0.000000 |
PaintCorrectionDefringe | 0.000000 |
PaintCorrectionExposure2012 | 0.000000 |
PaintCorrectionHighlights2012 | 0.000000 |
PaintCorrectionHue | 240.000000 |
PaintCorrectionLocalBlacks2012 | 0.000000 |
PaintCorrectionLocalDehaze | 0.000000 |
PaintCorrectionLocalWhites2012 | 0.000000 |
PaintCorrectionLuminanceNoise | 0.000000 |
PaintCorrectionMaskCenterWeight | 0.000000 |
PaintCorrectionMaskFlow (1) | 0.137931 |
PaintCorrectionMaskFlow (2) | 0.030534 |
PaintCorrectionMaskFlow | 0.755319 |
PaintCorrectionMaskRadius | 0.137706 |
PaintCorrectionMaskValue | 0.366334 |
PaintCorrectionMaskWhat | Mask/Paint |
PaintCorrectionMoire | 0.000000 |
PaintCorrectionSaturation | 0.000000 |
PaintCorrectionShadows2012 | 0.000000 |
PaintCorrectionSharpness | 0.000000 |
PaintCorrectionTemperature | 0.000000 |
PaintCorrectionTint | 0.000000 |
PaintCorrectionWhat | Correction |
ParametricDarks | 0 |
ParametricHighlights | 0 |
ParametricHighlightSplit | 75 |
ParametricLights | 0 |
ParametricMidtoneSplit | 50 |
ParametricShadows | 0 |
ParametricShadowSplit | 25 |
PerspectiveAspect | 0 |
PerspectiveHorizontal | 0 |
PerspectiveRotate | 0.0 |
PerspectiveScale | 100 |
PerspectiveUpright | 0 |
PerspectiveVertical | 0 |
PhotometricInterpretation | RGB |
PostCropVignetteAmount | 0 |
ProcessVersion | 6.7 |
ProfileDescription | sRGB IEC61966-2.1 |
RecommendedExposureIndex | 100 |
RedHue | 0 |
RedSaturation | 0 |
Rights | Håvard Walle Stokke |
SamplesPerPixel | 3 |
Saturation | 0 |
SaturationAdjustmentAqua | 0 |
SaturationAdjustmentBlue | 0 |
SaturationAdjustmentGreen | 0 |
SaturationAdjustmentMagenta | 0 |
SaturationAdjustmentOrange | 0 |
SaturationAdjustmentPurple | 0 |
SaturationAdjustmentRed | 0 |
SaturationAdjustmentYellow | 0 |
ScaleFactor35efl | 1.8 |
SceneCaptureType | Standard |
SensitivityType | Recommended Exposure Index |
SerialNumber | 053021009777 |
Shadows2012 | 0 |
ShadowTint | 0 |
SharpenDetail | 25 |
SharpenEdgeMasking | 0 |
SharpenRadius | +1.0 |
Sharpness | 25 |
ShutterSpeed | 1/13 |
ShutterSpeedValue | 1/13 |
Software | Adobe Photoshop CC 2017 (Macintosh) |
SplitToningBalance | 0 |
SplitToningHighlightHue | 0 |
SplitToningHighlightSaturation | 0 |
SplitToningShadowHue | 0 |
SplitToningShadowSaturation | 0 |
Tint | +1 |
ToneCurve | 0, 0, 255, 255 |
ToneCurveBlue | 0, 0, 255, 255 |
ToneCurveGreen | 0, 0, 255, 255 |
ToneCurveName | Linear |
ToneCurveName2012 | Linear |
ToneCurvePV2012 | 0, 0, 255, 255 |
ToneCurvePV2012Blue | 0, 0, 255, 255 |
ToneCurvePV2012Green | 0, 0, 255, 255 |
ToneCurvePV2012Red | 0, 0, 255, 255 |
ToneCurveRed | 0, 0, 255, 255 |
ToneMapStrength | 0 |
URL_List | |
Version | 9.5 |
Vibrance | 0 |
VignetteAmount | 0 |
WhiteBalance (1) | As Shot |
WhiteBalance | Auto |
Whites2012 | +17 |