Felt | Verdi |
AlreadyApplied | True |
Aperture | 14.0 |
ApertureValue | 14.0 |
AutoLateralCA | 0 |
BitsPerSample | 8 |
Blacks2012 | 0 |
BlueHue | 0 |
BlueSaturation | 0 |
CameraProfile | Adobe Standard |
CircleOfConfusion | 0.019 mm |
Clarity2012 | 0 |
ColorComponents | 3 |
ColorNoiseReduction | 25 |
ColorNoiseReductionDetail | 50 |
ColorNoiseReductionSmoothness | 50 |
ColorSpace | sRGB |
ColorTemperature | 4772 |
ColorTransform | YCbCr |
Contrast2012 | 0 |
ConvertToGrayscale | True |
CreateDate (1) | 2019:03:10 14:58:46.95 |
CreateDate | 2019:03:10 14:58:46 |
CreatorTool | Adobe Photoshop Lightroom Classic 8.2 (Macintosh) |
CropAngle | -0.573382 |
CropBottom | 0.992675 |
CropConstrainToWarp | 0 |
CropLeft | 0.244341 |
CropRight | 0.737201 |
CropTop | 0.007325 |
CustomRendered | Normal |
DateCreated (1) | 2019:03:10 |
DateCreated | 2019:03:10 14:58:46.95 |
DateTimeOriginal | 2019:03:10 14:58:46 |
Dehaze | 0 |
Exposure2012 | -1.35 |
ExposureCompensation | 0 |
ExposureMode | Manual |
ExposureProgram | Manual |
ExposureTime | 1/250 |
Firmware | 1.0.2 |
Flash | Off, Did not fire |
FlashCompensation | 0 |
FNumber | 14.0 |
FocalLength | 50.0 mm |
FocalLength35efl | 50.0 mm (35 mm equivalent: 78.6 mm) |
Format | image/jpeg |
FOV | 25.8 deg |
GrainAmount | 0 |
GrayMixerAqua | 0 |
GrayMixerBlue | 0 |
GrayMixerGreen | 0 |
GrayMixerMagenta | 0 |
GrayMixerOrange | 0 |
GrayMixerPurple | 0 |
GrayMixerRed | 0 |
GrayMixerYellow | 0 |
GreenHue | 0 |
GreenSaturation | 0 |
HasCrop | True |
HasSettings | True |
Highlights2012 | +2 |
HyperfocalDistance | 9.35 m |
ImageHeight | 3431 |
ImageNumber | 0 |
ImageSize | 2521x3431 |
ImageWidth | 2521 |
ISO | 1600 |
Lens | 50mm |
LensID (1) | 255 |
LensID | Unknown (255) 50mm |
LensInfo | 50mm f/? |
LensManualDistortionAmount | 0 |
LensModel | 50mm |
LensProfileEnable | 0 |
LensProfileSetup | LensDefaults |
LensSerialNumber | 0000000000 |
LightValue | 11.6 |
LookAmount | 1.000000 |
LookGroup | Profiles |
LookName | Adobe Monochrome |
LookParametersCameraProfile | Adobe Standard |
LookParametersClarity2012 | +8 |
LookParametersConvertToGrayscale | True |
LookParametersLookTable | 73ED6C18DDE909DD7EA2D771F5AC282D |
LookParametersProcessVersion | 11.0 |
LookParametersToneCurvePV2012 | 0, 0, 64, 56, 128, 128, 192, 197, 255, 255 |
LookParametersToneCurvePV2012Blue | 0, 0, 255, 255 |
LookParametersToneCurvePV2012Green | 0, 0, 255, 255 |
LookParametersToneCurvePV2012Red | 0, 0, 255, 255 |
LookParametersVersion | 11.2 |
LookSupportsAmount | false |
LookSupportsMonochrome | false |
LookSupportsOutputReferred | false |
LuminanceSmoothing | 0 |
Make | Canon |
MaxApertureValue | 1.8 |
Megapixels | 8.6 |
MeteringMode | Multi-segment |
Model | Canon EOS 600D |
ModifyDate (1) | 2019:03:10 15:44:06+01:00 |
ModifyDate | 2019:03:10 15:44:06 |
OverrideLookVignette | False |
ParametricDarks | -23 |
ParametricHighlights | 0 |
ParametricHighlightSplit | 75 |
ParametricLights | 0 |
ParametricMidtoneSplit | 50 |
ParametricShadows | 0 |
ParametricShadowSplit | 25 |
PerspectiveAspect | 0 |
PerspectiveHorizontal | 0 |
PerspectiveRotate | 0.0 |
PerspectiveScale | 100 |
PerspectiveUpright | 0 |
PerspectiveVertical | 0 |
PerspectiveX | 0.00 |
PerspectiveY | 0.00 |
PostCropVignetteAmount | 0 |
ProcessVersion | 11.0 |
ProfileDescription | sRGB IEC61966-2.1 |
RawFileName | IMG_0896.CR2 |
RecommendedExposureIndex | 1600 |
RedHue | 0 |
RedSaturation | 0 |
ScaleFactor35efl | 1.6 |
SceneCaptureType | Standard |
SensitivityType | Recommended Exposure Index |
SerialNumber | 123063012522 |
Shadows2012 | +60 |
ShadowTint | 0 |
SharpenDetail | 25 |
SharpenEdgeMasking | 0 |
SharpenRadius | +1.0 |
Sharpness | 40 |
ShutterSpeed | 1/250 |
ShutterSpeedValue | 1/250 |
Software | Adobe Photoshop Lightroom Classic 8.2 (Macintosh) |
SplitToningBalance | 0 |
SplitToningHighlightHue | 0 |
SplitToningHighlightSaturation | 0 |
SplitToningShadowHue | 0 |
SplitToningShadowSaturation | 0 |
Tint | -3 |
ToneCurve | 0, 0, 255, 255 |
ToneCurveBlue | 0, 0, 255, 255 |
ToneCurveGreen | 0, 0, 255, 255 |
ToneCurveName | Linear |
ToneCurveName2012 | Linear |
ToneCurvePV2012 | 0, 0, 255, 255 |
ToneCurvePV2012Blue | 0, 0, 255, 255 |
ToneCurvePV2012Green | 0, 0, 255, 255 |
ToneCurvePV2012Red | 0, 0, 255, 255 |
ToneCurveRed | 0, 0, 255, 255 |
ToneMapStrength | 0 |
Version | 11.2 |
VignetteAmount | 0 |
WhiteBalance (1) | Custom |
WhiteBalance | Auto |
Whites2012 | +28 |