Felt | Verdi |
AlreadyApplied | True |
Aperture | 6.3 |
ApertureValue | 6.3 |
AutoLateralCA | 0 |
AutoWhiteVersion | 134348800 |
BitsPerSample | 8 |
Blacks2012 | -7 |
BlueHue | 0 |
BlueSaturation | 0 |
CameraProfile | Camera Standard |
CFAPattern | [Red,Green][Green,Blue] |
CircleOfConfusion | 0.030 mm |
Clarity2012 | +39 |
ColorComponents | 3 |
ColorGradeBlending | 100 |
ColorGradeGlobalHue | 0 |
ColorGradeGlobalLum | 0 |
ColorGradeGlobalSat | 0 |
ColorGradeHighlightLum | 0 |
ColorGradeMidtoneHue | 0 |
ColorGradeMidtoneLum | 0 |
ColorGradeMidtoneSat | 0 |
ColorGradeShadowLum | 0 |
ColorNoiseReduction | 47 |
ColorNoiseReductionDetail | 47 |
ColorNoiseReductionSmoothness | 45 |
ColorSpace | sRGB |
ColorTemperature | 6650 |
ColorTransform | YCbCr |
Contrast | Normal |
Contrast2012 | -8 |
ConvertToGrayscale | False |
CreateDate (1) | 2021:06:27 18:29:13.73-01:00 |
CreateDate | 2021:06:27 18:29:13 |
CreatorTool | Adobe Photoshop Lightroom Classic 10.2 (Windows) |
CropAngle | 0 |
CropBottom | 1 |
CropConstrainToWarp | 0 |
CropLeft | 0 |
CropRight | 1 |
CropTop | 0 |
CustomRendered | Custom |
DateCreated (1) | 2021:06:27 |
DateCreated | 2021:06:27 18:29:13.73-01:00 |
DateTimeOriginal | 2021:06:27 18:29:13 |
DefringeGreenAmount | 8 |
DefringeGreenHueHi | 63 |
DefringeGreenHueLo | 44 |
DefringePurpleAmount | 0 |
DefringePurpleHueHi | 70 |
DefringePurpleHueLo | 30 |
Dehaze | 0 |
DistortionCorrectionAlreadyApplied | True |
Exposure2012 | +0.55 |
ExposureCompensation | 0 |
ExposureMode | Auto |
ExposureProgram | Aperture-priority AE |
ExposureTime | 1/500 |
Flash | No Flash |
FNumber | 6.3 |
FocalLength | 50.0 mm |
FocalLength35efl | 50.0 mm (35 mm equivalent: 50.0 mm) |
FocalLengthIn35mmFormat | 50 mm |
Format | image/jpeg |
FOV | 39.6 deg |
GainControl | None |
GrainAmount | 0 |
GrayMixerAqua | -19 |
GrayMixerBlue | +7 |
GrayMixerGreen | -20 |
GrayMixerMagenta | +5 |
GrayMixerOrange | -14 |
GrayMixerPurple | +13 |
GrayMixerRed | -6 |
GrayMixerYellow | -18 |
GreenHue | 0 |
GreenSaturation | 0 |
HasCrop | False |
HasSettings | True |
Highlights2012 | -26 |
HueAdjustmentAqua | +5 |
HueAdjustmentBlue | -2 |
HueAdjustmentGreen | +4 |
HueAdjustmentMagenta | 0 |
HueAdjustmentOrange | -8 |
HueAdjustmentPurple | 0 |
HueAdjustmentRed | -9 |
HueAdjustmentYellow | 0 |
HyperfocalDistance | 13.21 m |
ImageHeight | 4016 |
ImageNumber | 748 |
ImageSize | 6016x4016 |
ImageWidth | 6016 |
ISO | 125 |
LateralChromaticAberrationCorrectionAlreadyApplied | True |
Lens | NIKKOR Z 24-50mm f/4-6.3 |
LensInfo | 24-50mm f/4-6.3 |
LensMake | NIKON |
LensManualDistortionAmount | 0 |
LensModel | NIKKOR Z 24-50mm f/4-6.3 |
LensProfileEnable | 0 |
LensSerialNumber | 20009437 |
LightSource | Unknown |
LightValue | 14.0 |
LuminanceAdjustmentAqua | -5 |
LuminanceAdjustmentBlue | -3 |
LuminanceAdjustmentGreen | -4 |
LuminanceAdjustmentMagenta | +1 |
LuminanceAdjustmentOrange | -2 |
LuminanceAdjustmentPurple | -3 |
LuminanceAdjustmentRed | +1 |
LuminanceAdjustmentYellow | -4 |
LuminanceSmoothing | 0 |
Make | NIKON CORPORATION |
Megapixels | 24.2 |
MeteringMode | Multi-segment |
Model | NIKON Z 5 |
ModifyDate (1) | 2021:09:10 11:06:15+02:00 |
ModifyDate | 2021:09:10 11:06:15 |
OverrideLookVignette | False |
ParametricDarks | 0 |
ParametricHighlights | 0 |
ParametricHighlightSplit | 75 |
ParametricLights | 0 |
ParametricMidtoneSplit | 50 |
ParametricShadows | 0 |
ParametricShadowSplit | 25 |
PerspectiveAspect | 0 |
PerspectiveHorizontal | 0 |
PerspectiveRotate | 0.0 |
PerspectiveScale | 100 |
PerspectiveUpright | 0 |
PerspectiveVertical | 0 |
PerspectiveX | 0.00 |
PerspectiveY | 0.00 |
PostCropVignetteAmount | 0 |
PreservedFileName | DSC_0751.NEF |
ProcessVersion | 11.0 |
ProfileDescription | sRGB IEC61966-2.1 |
RawFileName | DSC_0751.NEF |
RecommendedExposureIndex | 125 |
RedHue | 0 |
RedSaturation | 0 |
Saturation (1) | 0 |
Saturation | Normal |
SaturationAdjustmentAqua | -13 |
SaturationAdjustmentBlue | -6 |
SaturationAdjustmentGreen | -6 |
SaturationAdjustmentMagenta | -11 |
SaturationAdjustmentOrange | -17 |
SaturationAdjustmentPurple | -11 |
SaturationAdjustmentRed | -11 |
SaturationAdjustmentYellow | -9 |
ScaleFactor35efl | 1.0 |
SceneCaptureType | Standard |
SceneType | Directly photographed |
SensingMethod | One-chip color area |
SensitivityType | Recommended Exposure Index |
SerialNumber | 6002522 |
Shadows2012 | +25 |
ShadowTint | 0 |
SharpenDetail | 25 |
SharpenEdgeMasking | 0 |
SharpenRadius | +0.6 |
Sharpness (1) | 9 |
Sharpness | Normal |
ShutterSpeed | 1/500 |
ShutterSpeedValue | 1/500 |
Software | Adobe Photoshop Lightroom Classic 10.2 (Windows) |
SplitToningBalance | 0 |
SplitToningHighlightHue | 32 |
SplitToningHighlightSaturation | 9 |
SplitToningShadowHue | 0 |
SplitToningShadowSaturation | 0 |
SubjectDistanceRange | Unknown |
Texture | 0 |
Tint | +10 |
ToneCurveName2012 | Custom |
ToneCurvePV2012 | 0, 0, 4, 4, 255, 255 |
ToneCurvePV2012Blue | 0, 66, 51, 73, 128, 130, 153, 161, 204, 210, 255, 232 |
ToneCurvePV2012Green | 0, 66, 51, 72, 128, 133, 153, 167, 204, 215, 255, 236 |
ToneCurvePV2012Red | 0, 66, 51, 71, 128, 133, 153, 165, 204, 214, 255, 235 |
Version | 13.2 |
Vibrance | -5 |
VignetteAmount | 0 |
VignetteCorrectionAlreadyApplied | True |
VignetteMidpoint | 30 |
WhiteBalance | Auto |
Whites2012 | +8 |