Felt | Verdi |
AlreadyApplied | True |
Aperture | 5.6 |
ApertureValue | 5.6 |
ApplyAutomatically | False |
AutoLateralCA | 1 |
BitsPerSample | 8 |
Blacks2012 | -14 |
BlueHue | 0 |
BlueSaturation | 0 |
CameraProfile | Adobe Standard |
CircleOfConfusion | 0.030 mm |
Clarity2012 | 0 |
ColorComponents | 3 |
ColorGradeBlending | 50 |
ColorGradeGlobalHue | 0 |
ColorGradeGlobalLum | 0 |
ColorGradeGlobalSat | 0 |
ColorGradeHighlightLum | 0 |
ColorGradeMidtoneHue | 0 |
ColorGradeMidtoneLum | 0 |
ColorGradeMidtoneSat | 0 |
ColorGradeShadowLum | 0 |
ColorNoiseReduction | 0 |
ColorSpace | sRGB |
ColorTemperature | 5600 |
ColorTransform | YCbCr |
Contrast | Normal |
Contrast2012 | +5 |
CorrectionAlreadyApplied | False |
CreateDate (1) | 2023:12:27 09:41:13+01:00 |
CreateDate | 2023:12:27 09:41:13 |
CreatorTool | Adobe Photoshop Lightroom Classic 13.0.1 (Macintosh) |
CropAngle | 0 |
CropBottom | 0.984739 |
CropConstrainToWarp | 0 |
CropLeft | 0 |
CropRight | 0.984739 |
CropTop | 0 |
CustomRendered | Normal |
DateCreated (1) | 2023:12:27 |
DateCreated | 2023:12:27 09:41:13+01:00 |
DateTimeOriginal | 2023:12:27 09:41:13 |
DefringeGreenAmount | 0 |
DefringeGreenHueHi | 60 |
DefringeGreenHueLo | 40 |
DefringePurpleAmount | 0 |
DefringePurpleHueHi | 70 |
DefringePurpleHueLo | 30 |
Dehaze | +14 |
EnhanceDenoiseAlreadyApplied | True |
EnhanceDenoiseLumaAmount | 88 |
EnhanceDenoiseVersion | 251658240 |
EnhanceDetailsAlreadyApplied | True |
EnhanceDetailsVersion | 218300416 |
Exposure2012 | +1.75 |
ExposureCompensation | -2 |
ExposureProgram | Creative (Slow speed) |
ExposureTime | 1/500 |
Flash | Off, Did not fire |
FNumber | 5.6 |
FocalLength | 280.0 mm |
FocalLength35efl | 280.0 mm (35 mm equivalent: 280.0 mm) |
FocalLength35mm | 293.0000000000 |
FocalLengthIn35mmFormat | 280 mm |
Format | image/jpeg |
FOV | 7.4 deg |
GrainAmount | 0 |
GreenHue | 0 |
GreenSaturation | 0 |
HasCrop | True |
HasSettings | True |
HDREditMode | 0 |
Highlights2012 | -39 |
HueAdjustmentAqua | 0 |
HueAdjustmentBlue | 0 |
HueAdjustmentGreen | 0 |
HueAdjustmentMagenta | 0 |
HueAdjustmentOrange | 0 |
HueAdjustmentPurple | 0 |
HueAdjustmentRed | 0 |
HueAdjustmentYellow | 0 |
HyperfocalDistance | 465.95 m |
ImageHeight | 5499 |
ImageSize | 8240x5499 |
ImageWidth | 8240 |
ISO | 200 |
LateralChromaticAberrationCorrectionAlreadyApplied | True |
Lens | APO-VARIO-ELMARIT-SL 1:2.8-4/90-280 |
LensInfo | 90-280mm f/3.0703125-3 |
LensMake | LEICA CAMERA AG |
LensManualDistortionAmount | 0 |
LensModel | APO-VARIO-ELMARIT-SL 1:2.8-4/90-280 |
LensProfileEnable | 0 |
LensSerialNumber | 4575457 |
LightSource | Unknown |
LightValue | 12.9 |
LookAmount | 1 |
LookGroup | Profiles |
LookName | Adobe Color |
LookParametersCameraProfile | Adobe Standard |
LookParametersConvertToGrayscale | False |
LookParametersLookTable | E1095149FDB39D7A057BAB208837E2E1 |
LookParametersProcessVersion | 15.4 |
LookParametersToneCurvePV2012 | 0, 0, 22, 16, 40, 35, 127, 127, 224, 230, 240, 246, 255, 255 |
LookParametersToneCurvePV2012Blue | 0, 0, 255, 255 |
LookParametersToneCurvePV2012Green | 0, 0, 255, 255 |
LookParametersToneCurvePV2012Red | 0, 0, 255, 255 |
LookParametersVersion | 16.0 |
LookSupportsAmount | false |
LookSupportsMonochrome | false |
LookSupportsOutputReferred | false |
LuminanceAdjustmentAqua | 0 |
LuminanceAdjustmentBlue | 0 |
LuminanceAdjustmentGreen | 0 |
LuminanceAdjustmentMagenta | 0 |
LuminanceAdjustmentOrange | 0 |
LuminanceAdjustmentPurple | 0 |
LuminanceAdjustmentRed | 0 |
LuminanceAdjustmentYellow | 0 |
LuminanceSmoothing | 0 |
Make | LEICA CAMERA AG |
MaxApertureValue | 2.9 |
Megapixels | 45.3 |
MeteringMode | Spot |
Model | LEICA SL2 |
ModifyDate (1) | 2023:12:27 14:40:42+01:00 |
ModifyDate | 2023:12:27 14:40:42 |
NormalizedCropCorners | 0.0037965730, 0.0130281476, 0.9904565215, 0.0001248073, 0.9991434216, 0.9870197773, 0.0066044768, 1.0000000000 |
OverrideLookVignette | False |
ParametricDarks | 0 |
ParametricHighlights | 0 |
ParametricHighlightSplit | 75 |
ParametricLights | 0 |
ParametricMidtoneSplit | 50 |
ParametricShadows | 0 |
ParametricShadowSplit | 25 |
PerspectiveAspect | 0 |
PerspectiveHorizontal | 0 |
PerspectiveRotate | 0.0 |
PerspectiveScale | 100 |
PerspectiveUpright | 0 |
PerspectiveVertical | 0 |
PerspectiveX | 0.00 |
PerspectiveY | 0.00 |
PitchAngle | 4.1999998093 |
PostCropVignetteAmount | 0 |
PreservedFileName | L1080045.DNG |
ProcessVersion | 15.4 |
ProfileDescription | sRGB IEC61966-2.1 |
RawFileName | 20231227-L1080045-Forbedret-NR.dng |
RedHue | 0 |
RedSaturation | 0 |
RollAngle | 0.5000000000 |
Saturation (1) | +16 |
Saturation | Normal |
SaturationAdjustmentAqua | 0 |
SaturationAdjustmentBlue | 0 |
SaturationAdjustmentGreen | 0 |
SaturationAdjustmentMagenta | 0 |
SaturationAdjustmentOrange | 0 |
SaturationAdjustmentPurple | 0 |
SaturationAdjustmentRed | 0 |
SaturationAdjustmentYellow | 0 |
ScaleFactor35efl | 1.0 |
ScalingFactorHeight | 0.9896368980 |
SceneCaptureType | Standard |
SensingMethod | One-chip color area |
SensitivityType | Standard Output Sensitivity |
SerialNumber | 5556265 |
Shadows2012 | +86 |
ShadowTint | 0 |
SharpenDetail | 25 |
SharpenEdgeMasking | 0 |
SharpenRadius | +1.0 |
Sharpness (1) | 40 |
Sharpness | Normal |
ShutterSpeed | 1/500 |
ShutterSpeedValue | 1/500 |
Software | Adobe Photoshop Lightroom Classic 13.0.1 (Macintosh) |
SplitToningBalance | 0 |
SplitToningHighlightHue | 0 |
SplitToningHighlightSaturation | 0 |
SplitToningShadowHue | 0 |
SplitToningShadowSaturation | 0 |
StandardOutputSensitivity | 200 |
TargetAspectRatio | 1.4985673428 |
Texture | 0 |
Tint | +9 |
ToneCurveName2012 | Linear |
ToneCurvePV2012 | 0, 0, 255, 255 |
ToneCurvePV2012Blue | 0, 0, 255, 255 |
ToneCurvePV2012Green | 0, 0, 255, 255 |
ToneCurvePV2012Red | 0, 0, 255, 255 |
ValidCropCorners | True |
Version (1) | 1.0.0 |
Version | 16.0 |
Vibrance | +53 |
VignetteAmount | 0 |
WhiteBalance (1) | As Shot |
WhiteBalance | Auto |
Whites2012 | -65 |