Felt | Verdi |
AlreadyApplied | True |
Aperture | 1.7 |
ApertureValue | 1.7 |
ApplyAutomatically | False |
AutoLateralCA | 0 |
BitsPerSample | 8 |
Blacks2012 | -32 |
BlueHue | 0 |
BlueSaturation | 0 |
CameraProfile | Adobe Standard v2 |
CircleOfConfusion | 0.030 mm |
Clarity2012 | 0 |
ColorComponents | 3 |
ColorGradeBlending | 50 |
ColorGradeGlobalHue | 0 |
ColorGradeGlobalLum | 0 |
ColorGradeGlobalSat | 0 |
ColorGradeHighlightLum | 0 |
ColorGradeMidtoneHue | 0 |
ColorGradeMidtoneLum | 0 |
ColorGradeMidtoneSat | 0 |
ColorGradeShadowLum | 0 |
ColorNoiseReduction | 25 |
ColorNoiseReductionDetail | 50 |
ColorNoiseReductionSmoothness | 50 |
ColorSpace | sRGB |
ColorTemperature | 3200 |
ColorTransform | YCbCr |
Contrast | Normal |
Contrast2012 | +43 |
CorrectionAlreadyApplied | False |
CreateDate (1) | 2024:01:02 08:19:49+01:00 |
CreateDate | 2024:01:02 08:19:49 |
CreatorTool | Adobe Photoshop Lightroom Classic 13.1 (Macintosh) |
CropAngle | 0 |
CropBottom | 1 |
CropConstrainToWarp | 0 |
CropLeft | 0 |
CropRight | 1 |
CropTop | 0 |
CustomRendered | Normal |
DateCreated (1) | 2024:01:02 |
DateCreated | 2024:01:02 08:19:49.135+01:00 |
DateTimeOriginal | 2024:01:02 08:19:49 |
DefringeGreenAmount | 0 |
DefringeGreenHueHi | 60 |
DefringeGreenHueLo | 40 |
DefringePurpleAmount | 0 |
DefringePurpleHueHi | 70 |
DefringePurpleHueLo | 30 |
Dehaze | 0 |
DigitalZoomRatio | 1 |
DistortionCorrectionAlreadyApplied | True |
Exposure2012 | +0.15 |
ExposureCompensation | 0 |
ExposureProgram | Program AE |
ExposureTime | 1/50 |
Flash | Off, Did not fire |
FNumber | 1.7 |
FocalLength | 28.0 mm |
FocalLength35efl | 28.0 mm (35 mm equivalent: 28.0 mm) |
FocalLength35mm | 29.0000000000 |
FocalLengthIn35mmFormat | 28 mm |
Format | image/jpeg |
FOV | 65.5 deg |
GrainAmount | 0 |
GreenHue | 0 |
GreenSaturation | 0 |
HasCrop | False |
HasSettings | True |
HDREditMode | 0 |
Highlights2012 | -50 |
HueAdjustmentAqua | 0 |
HueAdjustmentBlue | 0 |
HueAdjustmentGreen | 0 |
HueAdjustmentMagenta | 0 |
HueAdjustmentOrange | 0 |
HueAdjustmentPurple | 0 |
HueAdjustmentRed | 0 |
HueAdjustmentYellow | 0 |
HyperfocalDistance | 15.35 m |
ImageHeight | 9520 |
ImageSize | 6336x9520 |
ImageWidth | 6336 |
ISO | 4000 |
LateralChromaticAberrationCorrectionAlreadyApplied | True |
Lens | SUMMILUX 1:1.7/28 ASPH. |
LensInfo | 28mm f/1.53125-1.64453125 |
LensMake | LEICA CAMERA AG |
LensManualDistortionAmount | 0 |
LensModel | SUMMILUX 1:1.7/28 ASPH. |
LensProfileEnable | 0 |
LensSerialNumber | N/A |
LightSource | Unknown |
LightValue | 1.9 |
LookAmount | 1 |
LookGroup | Profiles |
LookName | Adobe Color |
LookParametersCameraProfile | Adobe Standard |
LookParametersConvertToGrayscale | False |
LookParametersLookTable | E1095149FDB39D7A057BAB208837E2E1 |
LookParametersProcessVersion | 15.4 |
LookParametersToneCurvePV2012 | 0, 0, 22, 16, 40, 35, 127, 127, 224, 230, 240, 246, 255, 255 |
LookParametersToneCurvePV2012Blue | 0, 0, 255, 255 |
LookParametersToneCurvePV2012Green | 0, 0, 255, 255 |
LookParametersToneCurvePV2012Red | 0, 0, 255, 255 |
LookParametersVersion | 16.1 |
LookSupportsAmount | false |
LookSupportsMonochrome | false |
LookSupportsOutputReferred | false |
LuminanceAdjustmentAqua | 0 |
LuminanceAdjustmentBlue | 0 |
LuminanceAdjustmentGreen | 0 |
LuminanceAdjustmentMagenta | 0 |
LuminanceAdjustmentOrange | 0 |
LuminanceAdjustmentPurple | 0 |
LuminanceAdjustmentRed | 0 |
LuminanceAdjustmentYellow | 0 |
LuminanceSmoothing | 0 |
Make | LEICA CAMERA AG |
MaxApertureValue | 1.7 |
Megapixels | 60.3 |
MeteringMode | Multi-segment |
Model | LEICA Q3 |
ModifyDate (1) | 2024:01:04 08:06:18+01:00 |
ModifyDate | 2024:01:04 08:06:18 |
NormalizedCropCorners | 0.0000000000, 0.0000000000, 1.0000000000, 0.0000000000, 1.0000000000, 1.0000000000, 0.0000000000, 1.0000000000 |
OverrideLookVignette | False |
ParametricDarks | 0 |
ParametricHighlights | 0 |
ParametricHighlightSplit | 75 |
ParametricLights | 0 |
ParametricMidtoneSplit | 50 |
ParametricShadows | 0 |
ParametricShadowSplit | 25 |
PerspectiveAspect | 0 |
PerspectiveHorizontal | 0 |
PerspectiveRotate | 0.0 |
PerspectiveScale | 100 |
PerspectiveUpright | 0 |
PerspectiveVertical | 0 |
PerspectiveX | 0.00 |
PerspectiveY | 0.00 |
PitchAngle | 46.5999984741 |
PointColors | -1.000000, -1.000000, -1.000000, -1.000000, -1.000000, -1.000000, -1.000000, -1.000000, -1.000000, -1.000000, -1.000000, -1.000000, -1.000000, -1.000000, -1.000000, -1.000000, -1.000000, -1.000000, -1.000000 |
PostCropVignetteAmount | 0 |
PreservedFileName | L1010562.DNG |
ProcessVersion | 15.4 |
ProfileDescription | sRGB IEC61966-2.1 |
RawFileName | 20240102-L1010562.DNG |
RedHue | 0 |
RedSaturation | 0 |
RollAngle | 9.9000015259 |
Saturation (1) | -2 |
Saturation | Normal |
SaturationAdjustmentAqua | 0 |
SaturationAdjustmentBlue | 0 |
SaturationAdjustmentGreen | 0 |
SaturationAdjustmentMagenta | 0 |
SaturationAdjustmentOrange | 0 |
SaturationAdjustmentPurple | 0 |
SaturationAdjustmentRed | 0 |
SaturationAdjustmentYellow | 0 |
ScaleFactor35efl | 1.0 |
ScalingFactorHeight | 1.0000000000 |
SceneCaptureType | Standard |
SensingMethod | One-chip color area |
SensitivityType | Standard Output Sensitivity |
SerialNumber | 5719791 |
Shadows2012 | +29 |
ShadowTint | 0 |
SharpenDetail | 25 |
SharpenEdgeMasking | 0 |
SharpenRadius | +1.0 |
Sharpness (1) | 40 |
Sharpness | Normal |
ShutterSpeed | 1/50 |
ShutterSpeedValue | 1/50 |
Software | Adobe Photoshop Lightroom Classic 13.1 (Macintosh) |
SplitToningBalance | 0 |
SplitToningHighlightHue | 0 |
SplitToningHighlightSaturation | 0 |
SplitToningShadowHue | 0 |
SplitToningShadowSaturation | 0 |
StandardOutputSensitivity | 4000 |
TargetAspectRatio | 1.5025252104 |
Texture | 0 |
Tint | +13 |
ToneCurveName2012 | Linear |
ToneCurvePV2012 | 0, 0, 255, 255 |
ToneCurvePV2012Blue | 0, 0, 255, 255 |
ToneCurvePV2012Green | 0, 0, 255, 255 |
ToneCurvePV2012Red | 0, 0, 255, 255 |
ValidCropCorners | False |
Version (1) | 1.0.0 |
Version | 16.1 |
Vibrance | +14 |
VignetteAmount | 0 |
WhiteBalance (1) | As Shot |
WhiteBalance | Auto |
Whites2012 | +47 |