Felt | Verdi |
AlreadyApplied | True |
Aperture | 3.2 |
ApertureValue | 3.2 |
Artist | Einar Storsul |
BitsPerSample | 8 |
BlueHue | 0 |
BlueSaturation | 0 |
Brightness | 0 |
By-line | Einar Storsul |
CameraProfile | Embedded |
ChromaticAberrationB | 0 |
ChromaticAberrationR | 0 |
CircleOfConfusion | 0.006 mm |
Clarity | 79 |
ColorComponents | 3 |
ColorMode | RGB |
ColorNoiseReduction | 57 |
ColorSpace (1) | Unknown (-1) |
ColorSpace | Uncalibrated |
Contrast | +75 |
ConvertToGrayscale | False |
Copyright | Einar Storsul |
CopyrightFlag | False |
CopyrightNotice | Einar Storsul |
CreateDate (1) | 2008:01:13 22:40:51+01:00 |
CreateDate | 2007:09:07 15:22:45 |
Creator | Einar Storsul |
CreatorAddress | Sproveien 236 |
CreatorCity | Fagerstrand |
CreatorCountry | Norway |
CreatorPostalCode | 1454 |
CreatorTool | Adobe Photoshop CS3 Windows |
CreatorWorkEmail | einar@storsul.com |
CreatorWorkURL | www.storsul.com |
CropAngle | 0 |
CropBottom | 1 |
CropHeight | 2304 |
CropLeft | 0.175772 |
CropRight | 0.897862 |
CropTop | 0 |
CropUnit | pixels |
CropWidth | 2218 |
CustomRendered | Normal |
DateTimeDigitized | 2007:09:07 15:22:45+02:00 |
DateTimeOriginal (1) | 2007:09:07 15:22:45+02:00 |
DateTimeOriginal | 2007:09:07 15:22:45 |
Defringe | 0 |
DerivedFrom | |
DigitalZoomRatio | 1 |
ExifImageHeight | 768 |
ExifImageWidth | 798 |
Exposure | -0.29 |
ExposureCompensation | 0 |
ExposureMode | Auto |
ExposureTime | 1/60 |
FillLight | 0 |
Firmware | 1.00 |
Flash | Auto, Fired |
FlashCompensation | 0 |
FlashFired | True |
FlashFunction | False |
FlashMode | Auto |
FlashRedEyeMode | False |
FlashReturn | No return detection |
FNumber | 3.2 |
FocalLength | 8.6 mm |
FocalLength35efl | 8.6 mm (35 mm equivalent: 41.1 mm) |
Format | image/jpeg |
FOV | 47.3 deg |
GreenHue | 0 |
GreenSaturation | 0 |
HasCrop | True |
HasSettings | True |
HighlightRecovery | 100 |
HueAdjustmentAqua | 0 |
HueAdjustmentBlue | 0 |
HueAdjustmentGreen | 0 |
HueAdjustmentMagenta | 0 |
HueAdjustmentOrange | 0 |
HueAdjustmentPurple | 0 |
HueAdjustmentRed | 0 |
HueAdjustmentYellow | 0 |
HyperfocalDistance | 3.66 m |
ICCProfileName | ProPhoto RGB |
ImageHeight (1) | 2218 |
ImageHeight | 768 |
ImageSize | 798x768 |
ImageWidth (1) | 2304 |
ImageWidth | 798 |
IncrementalTemperature | 0 |
IncrementalTint | 0 |
Lens | 5.8-20.7 mm |
LensInfo | 5.8125-20.6875mm f/? |
LuminanceAdjustmentAqua | 0 |
LuminanceAdjustmentBlue | 0 |
LuminanceAdjustmentGreen | 0 |
LuminanceAdjustmentMagenta | 0 |
LuminanceAdjustmentOrange | 0 |
LuminanceAdjustmentPurple | 0 |
LuminanceAdjustmentRed | 0 |
LuminanceAdjustmentYellow | 0 |
LuminanceSmoothing | 52 |
Make | Canon |
MaxApertureValue | 3.2 |
Megapixels | 0.613 |
MeteringMode | Multi-segment |
Model | Canon PowerShot S70 |
ModifyDate (1) | 2008:01:13 22:40:51+01:00 |
ModifyDate | 2008:01:13 22:40:51 |
ObjectName | På syklubbtur til Vilnius i 2007 |
Orientation | Horizontal (normal) |
ParametricDarks | 0 |
ParametricHighlights | +47 |
ParametricHighlightSplit | 75 |
ParametricLights | 0 |
ParametricMidtoneSplit | 50 |
ParametricShadows | 0 |
ParametricShadowSplit | 25 |
ProfileDescription | ProPhoto RGB |
Rating | 4 |
RedHue | 0 |
RedSaturation | 0 |
Rights | Einar Storsul |
Saturation | +64 |
SaturationAdjustmentAqua | -2 |
SaturationAdjustmentBlue | -19 |
SaturationAdjustmentGreen | 0 |
SaturationAdjustmentMagenta | 0 |
SaturationAdjustmentOrange | +5 |
SaturationAdjustmentPurple | 0 |
SaturationAdjustmentRed | 0 |
SaturationAdjustmentYellow | 0 |
ScaleFactor35efl | 4.8 |
SceneCaptureType | Standard |
SensingMethod | One-chip color area |
Shadows | 12 |
ShadowTint | 0 |
SharpenDetail | 25 |
SharpenEdgeMasking | 0 |
SharpenRadius | +1.0 |
Sharpness | 95 |
ShutterSpeed | 1/60 |
ShutterSpeedValue | 1/60 |
Software | Adobe Photoshop CS3 Windows |
SplitToningBalance | 0 |
SplitToningHighlightHue | 0 |
SplitToningHighlightSaturation | 0 |
SplitToningShadowHue | 0 |
SplitToningShadowSaturation | 0 |
Title | På syklubbtur til Vilnius i 2007 |
ToneCurve | 0, 0, 255, 255 |
ToneCurveName | Linear |
URL | www.storsul.com |
URL_List | |
Version | 1.0 |
Vibrance | +26 |
VignetteAmount | 0 |
WebStatement | www.storsul.com |
WhiteBalance (2) | Custom |
WhiteBalance | Auto |