Felt | Verdi |
AlreadyApplied | True |
Aperture | 5.6 |
ApertureValue | 5.6 |
BitsPerSample | 8 |
BlueHue | 0 |
BlueSaturation | 0 |
Brightness | +96 |
CameraProfile | ACR 2.4 |
ChromaticAberrationB | 0 |
ChromaticAberrationR | 0 |
CircleOfConfusion | 0.020 mm |
Clarity | 0 |
ColorComponents | 3 |
ColorMode | RGB |
ColorSpace | sRGB |
Contrast (2) | +25 |
Contrast | Normal |
ConvertToGrayscale | True |
CopyrightFlag | False |
CreateDate (1) | 2008:07:05 13:12:50+02:00 |
CreateDate | 2008:07:05 13:12:50 |
CreatorTool | Adobe Photoshop CS3 Windows |
CropAngle | -3.785 |
CropBottom | 0.812425 |
CropHeight | 1604 |
CropLeft | 0.319343 |
CropRight | 1 |
CropTop | 0.076464 |
CropUnit | pixels |
CropWidth | 1946 |
CustomRendered | Normal |
DateTimeDigitized | 2008:07:05 13:12:50+02:00 |
DateTimeOriginal (1) | 2008:07:05 13:12:50+02:00 |
DateTimeOriginal | 2008:07:05 13:12:50 |
Defringe | 0 |
ExifImageHeight | 768 |
ExifImageWidth | 932 |
Exposure | +0.29 |
ExposureCompensation | 0 |
ExposureMode | Auto |
ExposureProgram | Not Defined |
ExposureTime | 1/250 |
FillLight | 26 |
Flash | Off, Did not fire |
FlashFired | False |
FlashFunction | False |
FlashMode | Off |
FlashRedEyeMode | False |
FlashReturn | No return detection |
FNumber | 5.6 |
FocalLength | 33.0 mm |
FocalLength35efl | 33.0 mm (35 mm equivalent: 49.0 mm) |
FocalLengthIn35mmFormat | 49 mm |
Format | image/jpeg |
FOV | 40.3 deg |
GrayMixerAqua | -10 |
GrayMixerBlue | +20 |
GrayMixerGreen | -17 |
GrayMixerMagenta | +32 |
GrayMixerOrange | +12 |
GrayMixerPurple | +25 |
GrayMixerRed | +39 |
GrayMixerYellow | -9 |
GreenHue | 0 |
GreenSaturation | 0 |
HasCrop | True |
HasSettings | True |
HighlightRecovery | 0 |
HyperfocalDistance | 9.61 m |
ICCProfileName | sRGB IEC61966-2.1 |
ImageHeight (1) | 1604 |
ImageHeight | 768 |
ImageSize | 932x768 |
ImageWidth (1) | 1946 |
ImageWidth | 932 |
IncrementalTemperature | +8 |
IncrementalTint | -16 |
ISO | 200 |
Lens | Schneider D-XENON 18-55mm' |
LensID (1) | 4 246 |
LensID | Unknown (4 246) 18-55mm |
LensInfo | 18-55mm f/3.5-5.6 |
LightValue | 11.9 |
LuminanceSmoothing | 0 |
Make | SAMSUNG TECHWIN |
Megapixels | 0.716 |
MeteringMode | Multi-segment |
Model | GX-1L |
ModifyDate (1) | 2008:07:06 15:40:08+02:00 |
ModifyDate | 2008:07:06 15:40:08 |
Orientation | Horizontal (normal) |
ParametricDarks | -17 |
ParametricHighlights | 0 |
ParametricHighlightSplit | 75 |
ParametricLights | +28 |
ParametricMidtoneSplit | 50 |
ParametricShadows | 0 |
ParametricShadowSplit | 25 |
ProfileDescription | sRGB IEC61966-2.1 |
RedHue | 0 |
RedSaturation | 0 |
Saturation | Normal |
ScaleFactor35efl | 1.5 |
SceneCaptureType | Standard |
SceneType | Directly photographed |
SensingMethod | One-chip color area |
Shadows | 2 |
ShadowTint | 0 |
SharpenDetail | 50 |
SharpenEdgeMasking | 0 |
SharpenRadius | +1.0 |
Sharpness (2) | 25 |
Sharpness | Normal |
ShutterSpeed | 1/250 |
ShutterSpeedValue | 1/250 |
Software | Adobe Photoshop CS3 Windows |
SplitToningBalance | 0 |
SplitToningHighlightHue | 51 |
SplitToningHighlightSaturation | 22 |
SplitToningShadowHue | 37 |
SplitToningShadowSaturation | 32 |
SubjectDistanceRange | Macro |
ToneCurve | 0, 0, 32, 22, 64, 56, 128, 128, 192, 196, 255, 255 |
ToneCurveName | Medium Contrast |
URL_List | |
Version | 1.0 |
VignetteAmount | 0 |
WhiteBalance (2) | Custom |
WhiteBalance | Auto |