Felt | Verdi |
AlreadyApplied | True |
Aperture | 25.0 |
ApertureValue | 25.0 |
BitsPerSample | 8 |
BlueHue | 0 |
BlueSaturation | 0 |
Brightness | +50 |
CameraProfile | ACR 4.2 |
ChromaticAberrationB | 0 |
ChromaticAberrationR | 0 |
CircleOfConfusion | 0.019 mm |
Clarity | 0 |
ColorComponents | 1 |
ColorMode | RGB |
ColorSpace (1) | Unknown (-1) |
ColorSpace | Uncalibrated |
ColorTemperature | 5100 |
Contrast | +77 |
ConvertToGrayscale | True |
CopyrightFlag | False |
CreateDate (1) | 2008:09:03 20:19:59+02:00 |
CreateDate | 2008:08:27 18:21:53 |
CreatorTool | Adobe Photoshop CS3 Windows |
CustomRendered | Normal |
DateTimeDigitized | 2008:08:27 18:21:53.00+02:00 |
DateTimeOriginal (1) | 2008:08:27 18:21:53.00+02:00 |
DateTimeOriginal | 2008:08:27 18:21:53 |
Defringe | 0 |
DerivedFrom | |
ExifImageHeight | 768 |
ExifImageWidth | 512 |
Exposure | -0.71 |
ExposureCompensation | 0 |
ExposureMode | Manual |
ExposureProgram | Manual |
ExposureTime | 1/160 |
FillLight | 0 |
Firmware | 1.0.3 |
Flash | Off, Did not fire |
FlashCompensation | 0 |
FlashFired | False |
FlashFunction | False |
FlashMode | Off |
FlashRedEyeMode | False |
FlashReturn | No return detection |
FNumber | 25.0 |
FocalLength | 60.0 mm |
FocalLength35efl | 60.0 mm (35 mm equivalent: 97.1 mm) |
Format | image/jpeg |
FOV | 21.0 deg |
GrayMixerAqua | -19 |
GrayMixerBlue | +9 |
GrayMixerGreen | -27 |
GrayMixerMagenta | +6 |
GrayMixerOrange | -19 |
GrayMixerPurple | +17 |
GrayMixerRed | -9 |
GrayMixerYellow | -23 |
GreenHue | 0 |
GreenSaturation | 0 |
HasCrop | False |
HasSettings | True |
HighlightRecovery | 53 |
HyperfocalDistance | 7.76 m |
ICCProfileName | Adobe RGB (1998) |
ImageHeight (1) | 3888 |
ImageHeight | 768 |
ImageNumber | 0 |
ImageSize | 512x768 |
ImageWidth (1) | 2592 |
ImageWidth | 512 |
ISO | 320 |
Label | Red |
Lens | EF-S60mm f/2.8 Macro USM |
LensInfo | 60mm f/? |
LightValue | 14.9 |
LuminanceSmoothing | 0 |
Make | Canon |
MaxApertureValue | 2.8 |
Megapixels | 0.393 |
MeteringMode | Spot |
Model | Canon EOS 40D |
ModifyDate (1) | 2008:09:03 20:19:59+02:00 |
ModifyDate | 2008:09:03 20:19:59 |
Orientation | Horizontal (normal) |
ParametricDarks | 0 |
ParametricHighlights | 0 |
ParametricHighlightSplit | 75 |
ParametricLights | 0 |
ParametricMidtoneSplit | 50 |
ParametricShadows | 0 |
ParametricShadowSplit | 25 |
ProfileDescription | Adobe RGB (1998) |
RedHue | 0 |
RedSaturation | 0 |
ScaleFactor35efl | 1.6 |
SceneCaptureType | Standard |
SerialNumber | 530228646 |
Shadows | 100 |
ShadowTint | 0 |
SharpenDetail | 25 |
SharpenEdgeMasking | 0 |
SharpenRadius | +1.0 |
Sharpness | 25 |
ShutterSpeed | 1/160 |
ShutterSpeedValue | 1/160 |
Software | Adobe Photoshop CS3 Windows |
SplitToningBalance | 0 |
SplitToningHighlightHue | 0 |
SplitToningHighlightSaturation | 0 |
SplitToningShadowHue | 0 |
SplitToningShadowSaturation | 0 |
Tint | -5 |
ToneCurve | 0, 0, 32, 22, 64, 56, 128, 128, 192, 196, 255, 255 |
ToneCurveName | Medium Contrast |
URL_List | |
Version | 1.0 |
VignetteAmount | 0 |
WhiteBalance (2) | As Shot |
WhiteBalance | Auto |