Felt | Verdi |
AlreadyApplied | True |
Aperture | 6.3 |
ApertureValue | 6.3 |
Artist | Geir A Granviken |
BitsPerSample | 8 |
BlueHue | 0 |
BlueSaturation | 0 |
Brightness | +13 |
By-line | Geir A Granviken |
CameraProfile | ACR 4.4 |
Caption-Abstract | |
ChromaticAberrationB | 0 |
ChromaticAberrationR | 0 |
CircleOfConfusion | 0.019 mm |
City | Lillehammer |
Clarity | 10 |
ColorComponents | 3 |
ColorMode | RGB |
ColorNoiseReduction | 25 |
ColorSpace | sRGB |
ColorTemperature | 4750 |
Contrast | +25 |
ConvertToGrayscale | False |
Copyright | 2008 Geir A Granviken |
CopyrightNotice | 2008 Geir A Granviken |
Country | Norway |
Country-PrimaryLocationCode | NO |
Country-PrimaryLocationName | Norway |
CountryCode | NO |
CreateDate (1) | 2008:10:16 01:50:24+02:00 |
CreateDate | 2008:09:20 10:41:22 |
Creator | Geir A Granviken |
CreatorTool | Adobe Photoshop CS3 Windows |
CropAngle | 1.298674 |
CropBottom | 1 |
CropHeight | 3 |
CropLeft | 0.041721 |
CropRight | 0.870707 |
CropTop | 0.129671 |
CropUnit | Unknown (3) |
CropWidth | 2 |
CustomRendered | Normal |
DateTimeDigitized | 2008:09:20 10:41:22.60+1:00 |
DateTimeOriginal (1) | 2008:09:20 10:41:22.60+1:00 |
DateTimeOriginal | 2008:09:20 10:41:22 |
Defringe | 0 |
Description | |
ExifImageHeight | 597 |
ExifImageWidth | 896 |
Exposure | +0.55 |
ExposureCompensation | 0 |
ExposureMode | Manual |
ExposureProgram | Manual |
ExposureTime | 1/1000 |
FillLight | 5 |
Firmware | 1.0.4 |
Flash | Off, Did not fire |
FlashCompensation | 0 |
FlashFired | False |
FlashFunction | False |
FlashMode | Off |
FlashRedEyeMode | False |
FlashReturn | No return detection |
FNumber | 6.3 |
FocalLength | 47.0 mm |
FocalLength35efl | 47.0 mm (35 mm equivalent: 75.9 mm) |
Format | image/jpeg |
FOV | 26.7 deg |
GreenHue | 0 |
GreenSaturation | 0 |
HasCrop | True |
HasSettings | True |
Headline | |
HierarchicalSubject | Mads_B, SmlSkih_FTV_2008_09_Lh, SportSkiHoppSvev |
HighlightRecovery | 10 |
HueAdjustmentAqua | 0 |
HueAdjustmentBlue | 0 |
HueAdjustmentGreen | 0 |
HueAdjustmentMagenta | 0 |
HueAdjustmentOrange | 0 |
HueAdjustmentPurple | 0 |
HueAdjustmentRed | 0 |
HueAdjustmentYellow | 0 |
HyperfocalDistance | 18.85 m |
ICCProfileName | sRGB IEC61966-2.1 |
ImageDescription | |
ImageHeight | 597 |
ImageNumber | 0 |
ImageSize | 896x597 |
ImageWidth | 896 |
Instructions | |
ISO | 200 |
Lens | EF24-105mm f/4L IS USM |
LensInfo | 24-105mm f/? |
LightValue | 14.3 |
Location | Lysgårdsbakken |
LuminanceAdjustmentAqua | 0 |
LuminanceAdjustmentBlue | 0 |
LuminanceAdjustmentGreen | 0 |
LuminanceAdjustmentMagenta | 0 |
LuminanceAdjustmentOrange | 0 |
LuminanceAdjustmentPurple | 0 |
LuminanceAdjustmentRed | 0 |
LuminanceAdjustmentYellow | 0 |
LuminanceSmoothing | 0 |
Make | Canon |
MaxApertureValue | 4.0 |
Megapixels | 0.535 |
MeteringMode | Multi-segment |
Model | Canon EOS 450D |
ModifyDate (1) | 2008:10:16 01:50:24+02:00 |
ModifyDate | 2008:10:16 00:50:24 |
ObjectName | |
Orientation | Horizontal (normal) |
OwnerName | Geir A Granviken |
ParametricDarks | +8 |
ParametricHighlights | 0 |
ParametricHighlightSplit | 75 |
ParametricLights | 0 |
ParametricMidtoneSplit | 50 |
ParametricShadows | -16 |
ParametricShadowSplit | 25 |
ProfileDescription | sRGB IEC61966-2.1 |
Rating | 0 |
RawFileName | e149_0586.CR2 |
RedHue | 0 |
RedSaturation | 0 |
Rights | 2008 Geir A Granviken |
Saturation | +5 |
SaturationAdjustmentAqua | 0 |
SaturationAdjustmentBlue | 0 |
SaturationAdjustmentGreen | 0 |
SaturationAdjustmentMagenta | 0 |
SaturationAdjustmentOrange | 0 |
SaturationAdjustmentPurple | 0 |
SaturationAdjustmentRed | 0 |
SaturationAdjustmentYellow | 0 |
ScaleFactor35efl | 1.6 |
SceneCaptureType | Standard |
SerialNumber | 680266845 |
Shadows | 4 |
ShadowTint | 0 |
SharpenDetail | 25 |
SharpenEdgeMasking | 0 |
SharpenRadius | +1.0 |
Sharpness | 25 |
ShutterSpeed | 1/1000 |
ShutterSpeedValue | 1/1000 |
SidecarForExtension | CR2 |
Software | Adobe Photoshop CS3 Windows |
SpecialInstructions | |
SplitToningBalance | 0 |
SplitToningHighlightHue | 0 |
SplitToningHighlightSaturation | 0 |
SplitToningShadowHue | 0 |
SplitToningShadowSaturation | 0 |
Sub-location | Lysgårdsbakken |
Tint | +12 |
Title | |
ToneCurve | 0, 0, 32, 22, 64, 56, 128, 128, 192, 196, 255, 255 |
ToneCurveName | Medium Contrast |
Urgency | Unknown () |
UserComment | |
Version | 4.4.1 |
Vibrance | +20 |
VignetteAmount | 0 |
WhiteBalance (2) | As Shot |
WhiteBalance | Auto |