Felt | Verdi |
AlreadyApplied | True |
Aperture | 5.6 |
ApertureValue | 5.6 |
Artist | irina moork |
BitsPerSample | 8 |
BlueHue | 0 |
BlueSaturation | 0 |
Brightness | 0 |
By-line | irina moork |
CameraProfile | Embedded |
ChromaticAberrationB | 0 |
ChromaticAberrationR | 0 |
CircleOfConfusion | 0.019 mm |
Clarity | 8 |
ColorComponents | 3 |
ColorNoiseReduction | 100 |
Contrast | 0 |
ConvertToGrayscale | False |
CreateDate | 2007:11:30 15:01:55 |
Creator | irina moork |
CreatorTool | Adobe Photoshop Lightroom |
CustomRendered | Normal |
DateTimeDigitized | 2007:11:30 15:01:55.0+1:00 |
DateTimeOriginal (1) | 2007:11:30 15:01:55.0+1:00 |
DateTimeOriginal | 2007:11:30 15:01:55 |
deadline
Defringe | 2 |
ExifImageHeight | 800 |
ExifImageWidth | 533 |
Exposure | 0.00 |
ExposureCompensation | 0 |
ExposureMode | Auto |
ExposureProgram | Landscape |
ExposureTime | 1/30 |
FillLight | 17 |
Firmware | 1.1.0 |
Flash | Off, Did not fire |
FlashCompensation | 0 |
FlashFired | False |
FlashFunction | False |
FlashMode | Off |
FlashRedEyeMode | False |
FlashReturn | No return detection |
FNumber | 5.6 |
FocalLength | 18.0 mm |
FocalLength35efl | 18.0 mm (35 mm equivalent: 29.1 mm) |
FOV | 63.4 deg |
GreenHue | 0 |
GreenSaturation | 0 |
HasCrop | False |
HasSettings | True |
HierarchicalSubject | repairing
HighlightRecovery | 100 |
HueAdjustmentAqua | 0 |
HueAdjustmentBlue | 0 |
HueAdjustmentGreen | -2 |
HueAdjustmentMagenta | 0 |
HueAdjustmentOrange | -19 |
HueAdjustmentPurple | 0 |
HueAdjustmentRed | 0 |
HueAdjustmentYellow | 0 |
HyperfocalDistance | 3.12 m |
ImageHeight (1) | 3888 |
ImageHeight | 800 |
ImageNumber | 240 |
ImageSize | 533x800 |
ImageWidth (1) | 2592 |
ImageWidth | 533 |
IncrementalTemperature | -12 |
IncrementalTint | 0 |
ISO | 250 |
Keywords | repairing
Lens | EF-S18-55mm f/3.5-5.6 |
LensInfo | 18-55mm f/? |
LightValue | 8.6 |
LuminanceAdjustmentAqua | 0 |
LuminanceAdjustmentBlue | 0 |
LuminanceAdjustmentGreen | +43 |
LuminanceAdjustmentMagenta | 0 |
LuminanceAdjustmentOrange | -50 |
LuminanceAdjustmentPurple | 0 |
LuminanceAdjustmentRed | 0 |
LuminanceAdjustmentYellow | -38 |
LuminanceSmoothing | 100 |
maintenance
Make | Canon |
MaxApertureValue | 3.5 |
Megapixels | 0.426 |
mending
MeteringMode | Multi-segment |
Model | Canon EOS 400D DIGITAL |
ModifyDate (1) | 2009:09:01 15:36:54.0+1:00 |
ModifyDate | 2009:09:17 13:56:11 |
Orientation | Horizontal (normal) |
overhaul
OwnerName | unknown |
ParametricDarks | +2 |
ParametricHighlights | 0 |
ParametricHighlightSplit | 75 |
ParametricLights | 0 |
ParametricMidtoneSplit | 50 |
ParametricShadows | +43 |
ParametricShadowSplit | 25 |
ProfileDescription | sRGB IEC61966-2.1 |
reconditioning
RedHue | 0 |
RedSaturation | 0 |
refit
rehab
rehabilitation
repai |
repaint
repair
repairs |
Saturation | 0 |
SaturationAdjustmentAqua | 0 |
SaturationAdjustmentBlue | 0 |
SaturationAdjustmentGreen | -5 |
SaturationAdjustmentMagenta | 0 |
SaturationAdjustmentOrange | +29 |
SaturationAdjustmentPurple | 0 |
SaturationAdjustmentRed | 0 |
SaturationAdjustmentYellow | 0 |
ScaleFactor35efl | 1.6 |
SceneCaptureType | Standard |
SerialNumber | 1480868803 |
Shadows | 15 |
ShadowTint | 0 |
SharpenDetail | 25 |
SharpenEdgeMasking | 5 |
SharpenRadius | +1.0 |
Sharpness | 9 |
ShutterSpeed | 1/30 |
ShutterSpeedValue | 1/30 |
Software | ACD Systems Digital Imaging |
SplitToningBalance | 0 |
SplitToningHighlightHue | 0 |
SplitToningHighlightSaturation | 0 |
SplitToningShadowHue | 0 |
SplitToningShadowSaturation | 0 |
Subject | repairing
ToneCurve | 0, 0, 255, 255 |
ToneCurveName | Linear |
upkeep
Version | 4.4.1 |
Vibrance | 0 |
VignetteAmount | 0 |
WhiteBalance (2) | Custom |
WhiteBalance | Auto |
ñóùåñòâèòåëüíîårenovation
существительноеrenovation