Felt | Verdi |
AlreadyApplied | True |
Aperture | 10.0 |
ApertureValue | 10.0 |
Artist | Thomas Borgen Ha |
AuthorsPosition | Photographer |
BitsPerSample | 8 |
BlueHue | 0 |
BlueSaturation | 0 |
Brightness | +50 |
By-line | Thomas Borgen Ha |
By-lineTitle | Photographer |
CameraProfile | Adobe Standard |
CFAPattern | [Red,Green][Green,Blue] |
ChromaticAberrationB | 0 |
ChromaticAberrationR | 0 |
CircleOfConfusion | 0.021 mm |
Clarity | +33 |
ColorComponents | 3 |
ColorNoiseReduction | 25 |
ColorTemperature | 7100 |
Contrast (2) | +73 |
Contrast | Normal |
ConvertToGrayscale | False |
Copyright | Thomas Borgen Ha |
CopyrightFlag | True |
CopyrightNotice | Thomas Borgen Ha |
CreateDate (1) | 2010:02:04 18:39:37.43Z |
CreateDate | 2010:02:04 18:39:37 |
Creator | Thomas Borgen Ha |
CreatorAddress | Christian Sindings vei 26 |
CreatorCity | Kolbotn |
CreatorCountry | Norway |
CreatorPostalCode | 1410 |
CreatorRegion | Oslo |
CreatorTool | Adobe Photoshop Lightroom |
CreatorWorkEmail | thomasbha@gmail.com |
CreatorWorkTelephone | +4791700841 |
CreatorWorkURL | www.thomasha.net |
CropAngle | 0 |
CropBottom | 1 |
CropHeight | 797 |
CropLeft | 0 |
CropRight | 0.990446 |
CropTop | 0.009554 |
CropUnit | pixels |
CropWidth | 1200 |
CustomRendered | Normal |
DateTimeDigitized | 2010:02:04 18:39:37.43Z |
DateTimeOriginal (1) | 2010:02:04 18:39:37.43Z |
DateTimeOriginal | 2010:02:04 18:39:37 |
Defringe | 0 |
DigitalZoomRatio | 1 |
ExifImageHeight | 797 |
ExifImageWidth | 1200 |
Exposure | +0.29 |
ExposureCompensation | 0 |
ExposureMode | Auto |
ExposureProgram | Aperture-priority AE |
ExposureTime | 0.4 |
FillLight | 3 |
Flash | No Flash |
FlashFired | False |
FlashFunction | False |
FlashMode | Unknown |
FlashRedEyeMode | False |
FlashReturn | No return detection |
FNumber | 10.0 |
FocalLength | 13.0 mm |
FocalLength35efl | 13.0 mm (35 mm equivalent: 19.0 mm) |
FocalLengthIn35mmFormat | 19 mm |
FOV | 86.9 deg |
GainControl | None |
GradientBasedCorrActive | true |
GradientBasedCorrAmount | 1.000000 |
GradientBasedCorrBrightness | 0.000000 |
GradientBasedCorrClarity | 0.850000 |
GradientBasedCorrContrast | 0.850000 |
GradientBasedCorrExposure | -0.150000 |
GradientBasedCorrHue | 0.000000 |
GradientBasedCorrMaskFullX | 0.493173 |
GradientBasedCorrMaskFullY | 0.154230 |
GradientBasedCorrMaskValue | 1.000000 |
GradientBasedCorrMaskWhat | Mask/Gradient |
GradientBasedCorrMaskZeroX | 0.493173 |
GradientBasedCorrMaskZeroY | 0.437669 |
GradientBasedCorrSaturation | 0.000000 |
GradientBasedCorrSharpness | 0.000000 |
GradientBasedCorrWhat | Correction |
GreenHue | 0 |
GreenSaturation | 0 |
HasCrop | True |
HasSettings | True |
HighlightRecovery | 43 |
HueAdjustmentAqua | 0 |
HueAdjustmentBlue | 0 |
HueAdjustmentGreen | 0 |
HueAdjustmentMagenta | 0 |
HueAdjustmentOrange | 0 |
HueAdjustmentPurple | 0 |
HueAdjustmentRed | 0 |
HueAdjustmentYellow | 0 |
HyperfocalDistance | 0.82 m |
ImageHeight | 797 |
ImageNumber | 11150 |
ImageSize | 1200x797 |
ImageWidth | 1200 |
ISO | 200 |
Keywords | Fjell, Foss, Fototur, Himmel, Iceland, Island, Landskap, NHH, Natur |
Lens | 12.0-24.0 mm f/4.0 |
LensInfo | 12-24mm f/4 |
LightSource | Unknown |
LightValue | 7.0 |
LuminanceAdjustmentAqua | 0 |
LuminanceAdjustmentBlue | 0 |
LuminanceAdjustmentGreen | 0 |
LuminanceAdjustmentMagenta | 0 |
LuminanceAdjustmentOrange | 0 |
LuminanceAdjustmentPurple | 0 |
LuminanceAdjustmentRed | 0 |
LuminanceAdjustmentYellow | 0 |
LuminanceSmoothing | 25 |
Make | NIKON CORPORATION |
Marked | True |
MaxApertureValue | 4.0 |
Megapixels | 0.956 |
MeteringMode | Multi-segment |
Model | NIKON D300 |
ModifyDate (1) | 2010:02:09 13:42:39+01:00 |
ModifyDate | 2010:02:09 13:42:39 |
PaintCorrectionActive | true |
PaintCorrectionAmount | 1.000000 |
PaintCorrectionBrightness | 0.000000 |
PaintCorrectionClarity | 0.000000 |
PaintCorrectionContrast | 0.000000 |
PaintCorrectionExposure (1) | 0.025000 |
PaintCorrectionExposure (3) | 0.050000 |
PaintCorrectionExposure (4) | 0.075000 |
PaintCorrectionExposure | -0.025000 |
PaintCorrectionHue | 0.000000 |
PaintCorrectionMaskCenterWeight | 0.000000 |
PaintCorrectionMaskFlow | 1.000000 |
PaintCorrectionMaskRadius (1) | 0.060580 |
PaintCorrectionMaskRadius (10) | 0.061975 |
PaintCorrectionMaskRadius (4) | 0.046472 |
PaintCorrectionMaskRadius (7) | 0.033409 |
PaintCorrectionMaskRadius | 0.034466 |
PaintCorrectionMaskValue (8) | 1.000000 |
PaintCorrectionMaskValue | 0.000000 |
PaintCorrectionMaskWhat | Mask/Paint |
PaintCorrectionSaturation | 0.000000 |
PaintCorrectionSharpness | 0.000000 |
PaintCorrectionWhat | Correction |
ParametricDarks | -3 |
ParametricHighlights | +10 |
ParametricHighlightSplit | 75 |
ParametricLights | +5 |
ParametricMidtoneSplit | 50 |
ParametricShadows | 0 |
ParametricShadowSplit | 25 |
PostCropVignetteAmount | 0 |
ProfileDescription | sRGB IEC61966-2.1 |
Rating | 4 |
RedHue | 0 |
RedSaturation | 0 |
Rights | Thomas Borgen Ha |
Saturation (2) | 0 |
Saturation | Normal |
SaturationAdjustmentAqua | 0 |
SaturationAdjustmentBlue | 0 |
SaturationAdjustmentGreen | 0 |
SaturationAdjustmentMagenta | 0 |
SaturationAdjustmentOrange | 0 |
SaturationAdjustmentPurple | 0 |
SaturationAdjustmentRed | 0 |
SaturationAdjustmentYellow | 0 |
ScaleFactor35efl | 1.5 |
SceneCaptureType | Standard |
SceneType | Directly photographed |
SensingMethod | One-chip color area |
SerialNumber | 2081474 |
Shadows | 5 |
ShadowTint | +5 |
SharpenDetail | 25 |
SharpenEdgeMasking | 63 |
SharpenRadius | +0.6 |
Sharpness (2) | 134 |
Sharpness | Normal |
ShutterSpeed | 0.4 |
ShutterSpeedValue | 0.4 |
Software | Ver.1.10 |
SplitToningBalance | 0 |
SplitToningHighlightHue | 0 |
SplitToningHighlightSaturation | 0 |
SplitToningShadowHue | 0 |
SplitToningShadowSaturation | 0 |
Subject | Fjell, Foss, Fototur, Himmel, Iceland, Island, Landskap, NHH, Natur |
SubjectDistanceRange | Unknown |
Tint | -14 |
ToneCurve | 0, 0, 32, 22, 64, 56, 128, 128, 192, 196, 255, 255 |
ToneCurveName | Medium Contrast |
URL | www.thomasha.net |
UsageTerms | Ask first |
Version | 5.6 |
Vibrance | +21 |
VignetteAmount | +29 |
VignetteMidpoint | 50 |
WebStatement | www.thomasha.net |
WhiteBalance (2) | As Shot |
WhiteBalance | Auto |