Felt | Verdi |
AlreadyApplied | True |
Aperture | 18.0 |
ApertureValue | 18.0 |
Artist | Svenn Fjeldheim |
BitsPerSample (1) | 16, 16, 16 |
BitsPerSample (2) | 16 16 16 |
BitsPerSample | 8 |
BlueHue | 0 |
BlueSaturation | 0 |
Brightness | +98 |
By-line | Svenn Fjeldheim |
CameraProfile | Adobe Standard |
ChromaticAberrationB | 0 |
ChromaticAberrationR | 0 |
CircleOfConfusion | 0.019 mm |
Clarity | +100 |
ColorComponents | 3 |
ColorMode | RGB |
ColorNoiseReduction | 25 |
ColorNoiseReductionDetail | 50 |
ColorSpace | sRGB |
ColorTemperature | 4750 |
Contrast | +55 |
ConvertToGrayscale | False |
CreateDate (1) | 2010:03:19 15:56:00.53+01:00 |
CreateDate | 2010:03:19 15:56:00 |
Creator | Svenn Fjeldheim |
CropAngle | -0.044244 |
CropBottom | 0.998843 |
CropHeight | 2589 |
CropLeft | 0.000321 |
CropRight | 0.999679 |
CropTop | 0.001157 |
CropUnit | pixels |
CropWidth | 3884 |
CustomRendered | Normal |
DateTimeDigitized | 2010:03:19 15:56:00.53+01:00 |
DateTimeOriginal (1) | 2010:03:19 15:56:00.53+01:00 |
DateTimeOriginal | 2010:03:19 15:56:00 |
Defringe | 0 |
DOF | inf (0.51 m - inf) |
ExifImageHeight | 403 |
ExifImageWidth | 604 |
Exposure | +1.70 |
ExposureCompensation | 0 |
ExposureMode | Manual |
ExposureProgram | Manual |
ExposureTime | 1/25 |
FillLight | 13 |
Firmware | 1.1.1 |
Flash | Off, Did not fire |
FlashCompensation | 0 |
FlashFired | False |
FlashFunction | False |
FlashMode | Off |
FlashRedEyeMode | False |
FlashReturn | No return detection |
FNumber | 18.0 |
FocalLength | 13.0 mm |
FocalLength35efl | 13.0 mm (35 mm equivalent: 21.0 mm) |
Format | image/jpeg |
FOV | 81.1 deg |
GradientBasedCorrActive | true |
GradientBasedCorrAmount | 1.000000 |
GradientBasedCorrBrightness (1) | -0.777000 |
GradientBasedCorrBrightness | -0.160000 |
GradientBasedCorrClarity | 0.000000 |
GradientBasedCorrContrast (1) | 0.000000 |
GradientBasedCorrContrast | 0.704000 |
GradientBasedCorrExposure (1) | -0.579000 |
GradientBasedCorrExposure | -0.086000 |
GradientBasedCorrHue (1) | 298.000000 |
GradientBasedCorrHue | 50.000000 |
GradientBasedCorrMaskFullX (1) | 0.553191 |
GradientBasedCorrMaskFullX | 0.513511 |
GradientBasedCorrMaskFullY (1) | -0.007092 |
GradientBasedCorrMaskFullY | -0.011244 |
GradientBasedCorrMaskValue | 1.000000 |
GradientBasedCorrMaskWhat | Mask/Gradient |
GradientBasedCorrMaskZeroX (1) | 0.547675 |
GradientBasedCorrMaskZeroX | 0.517182 |
GradientBasedCorrMaskZeroY (1) | 0.719858 |
GradientBasedCorrMaskZeroY | 1.002940 |
GradientBasedCorrSaturation (2) | 0.000000 |
GradientBasedCorrSaturation | 1.000000 |
GradientBasedCorrSharpness | 0.000000 |
GradientBasedCorrWhat | Correction |
GrainAmount | 0 |
GreenHue | 0 |
GreenSaturation | 0 |
HasCrop | True |
HasSettings | True |
HighlightRecovery | 40 |
HueAdjustmentAqua | 0 |
HueAdjustmentBlue | 0 |
HueAdjustmentGreen | 0 |
HueAdjustmentMagenta | 0 |
HueAdjustmentOrange | 0 |
HueAdjustmentPurple | 0 |
HueAdjustmentRed | 0 |
HueAdjustmentYellow | 0 |
HyperfocalDistance | 0.51 m |
ICCProfileName | sRGB IEC61966-2.1 |
ImageHeight (1) | 2589 |
ImageHeight | 403 |
ImageNumber | 0 |
ImageSize | 604x403 |
ImageWidth (1) | 3884 |
ImageWidth | 604 |
ISO | 100 |
Lens | EF-S10-22mm f/3.5-4.5 USM |
LensID (1) | 235 |
LensID | Canon EF-S 10-22mm f/3.5-4.5 USM |
LensInfo | 10-22mm f/? |
LightValue | 13.0 |
LuminanceAdjustmentAqua | 0 |
LuminanceAdjustmentBlue | 0 |
LuminanceAdjustmentGreen | 0 |
LuminanceAdjustmentMagenta | 0 |
LuminanceAdjustmentOrange | 0 |
LuminanceAdjustmentPurple | 0 |
LuminanceAdjustmentRed | 0 |
LuminanceAdjustmentYellow | 0 |
Make | Canon |
MaxApertureValue | 3.8 |
Megapixels | 0.243 |
MeteringMode | Spot |
Model | Canon EOS 40D |
ModifyDate (1) | 2010:03:20 00:10:46+01:00 |
ModifyDate | 2010:03:20 00:10:46 |
NoiseReductionContrast | 0 |
Orientation | Horizontal (normal) |
OwnerName | Svenn Fjeldheim |
ParametricDarks | 0 |
ParametricHighlights | 0 |
ParametricHighlightSplit | 75 |
ParametricLights | 0 |
ParametricMidtoneSplit | 50 |
ParametricShadows | 0 |
ParametricShadowSplit | 25 |
PhotometricInterpretation | RGB |
PlanarConfiguration | Chunky |
PostCropVignetteAmount | 0 |
ProfileDescription | sRGB IEC61966-2.1 |
RedHue | 0 |
RedSaturation | 0 |
RenderVersion | 5.7 |
SamplesPerPixel | 3 |
Saturation | -100 |
SaturationAdjustmentAqua | 0 |
SaturationAdjustmentBlue | 0 |
SaturationAdjustmentGreen | 0 |
SaturationAdjustmentMagenta | 0 |
SaturationAdjustmentOrange | 0 |
SaturationAdjustmentPurple | 0 |
SaturationAdjustmentRed | 0 |
SaturationAdjustmentYellow | 0 |
ScaleFactor35efl | 1.6 |
SceneCaptureType | Standard |
SerialNumber | 630444402 |
Shadows | 5 |
ShadowTint | 0 |
SharpenDetail | 34 |
SharpenEdgeMasking | 0 |
SharpenRadius | +1.4 |
Sharpness | 53 |
ShutterSpeed | 1/25 |
ShutterSpeedValue | 1/25 |
Software | Adobe Photoshop CS4 Windows |
SplitToningBalance | 0 |
SplitToningHighlightHue | 0 |
SplitToningHighlightSaturation | 0 |
SplitToningShadowHue | 0 |
SplitToningShadowSaturation | 0 |
SubjectDistance | 4294967295 m |
Tint | -1 |
ToneCurve | 0, 0, 32, 22, 64, 56, 128, 128, 192, 196, 255, 255 |
ToneCurveName | Medium Contrast |
URL_List | |
Version | 6.0 |
Vibrance | 0 |
VignetteAmount | 0 |
WhiteBalance (2) | As Shot |
WhiteBalance | Auto |