Felt | Verdi |
AlreadyApplied | True |
Aperture | 10.0 |
ApertureValue | 10.0 |
Artist | Photographer:Lars Oestreim |
BitsPerSample | 8 |
BlueHue | -28 |
BlueSaturation | +100 |
Brightness | +25 |
By-line | Photographer:Lars Oestreim |
CameraProfile | Camera Landscape |
ChromaticAberrationB | 0 |
ChromaticAberrationR | 0 |
CircleOfConfusion | 0.031 mm |
Clarity | +11 |
ColorComponents | 3 |
ColorMode | RGB |
ColorNoiseReduction | 25 |
ColorSpace | sRGB |
ColorTemperature | 4000 |
Contrast | 0 |
ConvertToGrayscale | True |
Copyright | Copyright:Lars Oestreim |
CopyrightNotice | Copyright:Lars Oestreim |
CreateDate (1) | 2010:04:10 15:03:47.89+02:00 |
CreateDate | 2010:04:10 15:03:47 |
Creator | Photographer:Lars Oestreim |
CustomRendered | Normal |
DateTimeDigitized | 2010:04:10 15:03:47.89+02:00 |
DateTimeOriginal (1) | 2010:04:10 15:03:47.89+02:00 |
DateTimeOriginal | 2010:04:10 15:03:47 |
Defringe | 0 |
DOF | inf (2.11 m - inf) |
ExifImageHeight | 5616 |
ExifImageWidth | 3744 |
Exposure | +0.50 |
ExposureCompensation | 0 |
ExposureMode | Manual |
ExposureProgram | Manual |
ExposureTime | 1/30 |
FillLight | 0 |
Firmware | 1.1.0 |
Flash | Off, Did not fire |
FlashCompensation | 0 |
FlashFired | False |
FlashFunction | False |
FlashMode | Off |
FlashRedEyeMode | False |
FlashReturn | No return detection |
FNumber | 10.0 |
FocalLength | 35.0 mm |
FocalLength35efl | 35.0 mm (35 mm equivalent: 34.2 mm) |
Format | image/jpeg |
FOV | 55.6 deg |
GrayMixerAqua | -19 |
GrayMixerBlue | -100 |
GrayMixerGreen | +100 |
GrayMixerMagenta | +6 |
GrayMixerOrange | -100 |
GrayMixerPurple | -100 |
GrayMixerRed | -10 |
GrayMixerYellow | +28 |
GreenHue | -46 |
GreenSaturation | +90 |
HasCrop | False |
HasSettings | True |
HighlightRecovery | 25 |
HyperfocalDistance | 3.98 m |
ICCProfileName | sRGB IEC61966-2.1 |
ImageHeight | 5616 |
ImageNumber | 0 |
ImageSize | 3744x5616 |
ImageWidth | 3744 |
ISO | 1000 |
Lens | EF24-105mm f/4L IS USM |
LensID (1) | 237 |
LensID | Canon EF 24-105mm f/4L IS USM |
LensInfo | 24-105mm f/? |
LightValue | 8.2 |
LuminanceSmoothing | 0 |
Make | Canon |
MaxApertureValue | 4.0 |
Megapixels | 21.0 |
MeteringMode | Multi-segment |
Model | Canon EOS 5D Mark II |
ModifyDate (1) | 2010:04:10 22:52:01+02:00 |
ModifyDate | 2010:04:10 22:52:01 |
Orientation | Horizontal (normal) |
OwnerName | Lars Oestreim |
ParametricDarks | +6 |
ParametricHighlights | -16 |
ParametricHighlightSplit | 75 |
ParametricLights | -13 |
ParametricMidtoneSplit | 50 |
ParametricShadows | +18 |
ParametricShadowSplit | 25 |
PostCropVignetteAmount | 0 |
ProfileDescription | sRGB IEC61966-2.1 |
Rating | 0 |
RawFileName | IMG_8217.CR2 |
RedHue | 0 |
RedSaturation | 0 |
Rights | Copyright:Lars Oestreim |
ScaleFactor35efl | 1.0 |
SceneCaptureType | Standard |
SerialNumber | 530318205 |
Shadows | 5 |
ShadowTint | 0 |
SharpenDetail | 25 |
SharpenEdgeMasking | 0 |
SharpenRadius | +1.0 |
Sharpness | 25 |
ShutterSpeed | 1/30 |
ShutterSpeedValue | 1/30 |
SidecarForExtension | CR2 |
Software | Adobe Photoshop CS4 Windows |
SplitToningBalance | 0 |
SplitToningHighlightHue | 0 |
SplitToningHighlightSaturation | 0 |
SplitToningShadowHue | 0 |
SplitToningShadowSaturation | 0 |
SubjectDistance | 4.47 m |
Tint | -36 |
ToneCurve | 0, 0, 32, 22, 64, 56, 128, 128, 192, 196, 255, 255 |
ToneCurveName | Medium Contrast |
URL_List | |
Version | 5.6 |
VignetteAmount | +34 |
VignetteMidpoint | 50 |
WhiteBalance (2) | Custom |
WhiteBalance | Auto |