Felt | Verdi |
AlreadyApplied | True |
Aperture | 5.0 |
ApertureValue | 5.0 |
Artist | Kim Hansen |
BitsPerSample | 8 |
BlueHue | 0 |
BlueSaturation | 0 |
Brightness | 0 |
BrightnessValue | 0 |
By-line | Kim Hansen |
CameraProfile | Embedded |
ChromaticAberrationB | 0 |
ChromaticAberrationR | 0 |
CircleOfConfusion | 0.012 mm |
Clarity | 0 |
ColorComponents | 3 |
ColorNoiseReduction | 23 |
Contrast | +2 |
ConvertToGrayscale | False |
CreateDate (1) | 2010:04:13 21:17:29+02:00 |
CreateDate | 2010:04:13 21:17:29 |
Creator | Kim Hansen |
CreatorTool | Adobe Photoshop Lightroom |
CropAngle | -1.125 |
CropBottom | 0.964948 |
CropHeight | 1837 |
CropLeft | 0.012404 |
CropRight | 0.987596 |
CropTop | 0.035052 |
CropUnit | pixels |
CropWidth | 3400 |
DateTimeDigitized | 2010:04:13 21:17:29+02:00 |
DateTimeOriginal (1) | 2010:04:13 21:17:29+02:00 |
DateTimeOriginal | 2010:04:13 21:17:29 |
Defringe | 0 |
ExifImageHeight | 1837 |
ExifImageWidth | 3400 |
Exposure | 0.00 |
ExposureCompensation | 0 |
ExposureIndex | 0 |
ExposureProgram | Aperture-priority AE |
ExposureTime | 1/160 |
FillLight | 0 |
Flash | Off, Did not fire |
FlashFired | False |
FlashFunction | False |
FlashMode | Off |
FlashRedEyeMode | False |
FlashReturn | No return detection |
FNumber | 5.0 |
FocalLength | 41.0 mm |
FocalLength35efl | 41.0 mm (35 mm equivalent: 103.7 mm) |
FOV | 19.7 deg |
GreenHue | 0 |
GreenSaturation | 0 |
HasCrop | True |
HasSettings | True |
HighlightRecovery | 0 |
HueAdjustmentAqua | 0 |
HueAdjustmentBlue | 0 |
HueAdjustmentGreen | 0 |
HueAdjustmentMagenta | 0 |
HueAdjustmentOrange | 0 |
HueAdjustmentPurple | 0 |
HueAdjustmentRed | 0 |
HueAdjustmentYellow | 0 |
HyperfocalDistance | 28.29 m |
ImageHeight | 1837 |
ImageSize | 3400x1837 |
ImageWidth | 3400 |
IncrementalTemperature | 0 |
IncrementalTint | 0 |
ISO (1) | 100, 100 |
ISO | 100 |
LightSource | Unknown |
LightValue | 12.0 |
LuminanceAdjustmentAqua | 0 |
LuminanceAdjustmentBlue | -55 |
LuminanceAdjustmentGreen | 0 |
LuminanceAdjustmentMagenta | 0 |
LuminanceAdjustmentOrange | -48 |
LuminanceAdjustmentPurple | 0 |
LuminanceAdjustmentRed | -79 |
LuminanceAdjustmentYellow | 0 |
LuminanceSmoothing | 21 |
Make | Canon |
MaxApertureValue | 1.0 |
Megapixels | 6.2 |
MeteringMode | Multi-segment |
Model | Canon EOS 7D |
ModifyDate (1) | 2010:05:16 19:07:48+02:00 |
ModifyDate | 2010:05:16 19:07:48 |
ParametricDarks | -20 |
ParametricHighlights | +60 |
ParametricHighlightSplit | 75 |
ParametricLights | +10 |
ParametricMidtoneSplit | 50 |
ParametricShadows | -60 |
ParametricShadowSplit | 25 |
PostCropVignetteAmount | 0 |
ProfileDescription | sRGB IEC61966-2.1 |
RedHue | 0 |
RedSaturation | 0 |
Saturation | 0 |
SaturationAdjustmentAqua | +50 |
SaturationAdjustmentBlue | +58 |
SaturationAdjustmentGreen | +10 |
SaturationAdjustmentMagenta | 0 |
SaturationAdjustmentOrange | +13 |
SaturationAdjustmentPurple | +23 |
SaturationAdjustmentRed | 0 |
SaturationAdjustmentYellow | +23 |
ScaleFactor35efl | 2.5 |
SceneType | Unknown (0) |
SensingMethod (1) | Unknown (0) |
Shadows | 2 |
ShadowTint | 0 |
SharpenDetail | 25 |
SharpenEdgeMasking | 0 |
SharpenRadius | +1.0 |
Sharpness | 34 |
ShutterSpeed | 1/160 |
ShutterSpeedValue | 1/160 |
SplitToningBalance | 0 |
SplitToningHighlightHue | 56 |
SplitToningHighlightSaturation | 36 |
SplitToningShadowHue | 51 |
SplitToningShadowSaturation | 20 |
SubjectDistance | 0 m |
ToneCurve | 0, 0, 255, 255 |
ToneCurveName | Linear |
Version | 4.6 |
Vibrance | 0 |
VignetteAmount | 0 |
WhiteBalance | Custom |