Felt | Verdi |
AlreadyApplied | True |
Aperture | 7.1 |
ApertureValue | 7.1 |
Artist | CARL-S.JENSSEN carl-je@online.no |
BitsPerSample | 8 |
BlueHue | 0 |
BlueSaturation | 0 |
Brightness | +50 |
By-line | CARL-S.JENSSEN carl-je@online.no |
CameraProfile | Adobe Standard |
CFAPattern | [Red,Green][Green,Blue] |
ChromaticAberrationB | 0 |
ChromaticAberrationR | 0 |
CircleOfConfusion | 0.030 mm |
Clarity | +64 |
ColorComponents | 3 |
ColorNoiseReduction | 25 |
ColorNoiseReductionDetail | 50 |
ColorTemperature | 6100 |
Contrast (2) | +54 |
Contrast | Normal |
ConvertToGrayscale | False |
Copyright | Carl-Steinar Jenssen |
CopyrightNotice | Carl-Steinar Jenssen |
CreateDate (1) | 2010:07:15 07:56:06.22+02:00 |
CreateDate | 2010:07:15 07:56:06 |
Creator | CARL-S.JENSSEN carl-je@online.no |
CreatorTool | Adobe Photoshop Lightroom |
CropAngle | 1.17828 |
CropBottom | 0.994299 |
CropConstrainToWarp | 0 |
CropHeight | 2381 |
CropLeft | 0.070044 |
CropRight | 0.939543 |
CropTop | 0.067109 |
CropUnit | pixels |
CropWidth | 3500 |
CustomRendered | Normal |
DateTimeDigitized | 2010:07:15 07:56:06.22+02:00 |
DateTimeOriginal (1) | 2010:07:15 07:56:06.22+02:00 |
DateTimeOriginal | 2010:07:15 07:56:06 |
Defringe | 0 |
DigitalZoomRatio | 1 |
DOF | inf (2.70 m - inf) |
ExifImageHeight | 3500 |
ExifImageWidth | 2381 |
Exposure | 0.00 |
ExposureCompensation | 0 |
ExposureMode | Auto |
ExposureProgram | Aperture-priority AE |
ExposureTime | 1/400 |
FillLight | 0 |
Flash | No Flash |
FlashFired | False |
FlashFunction | False |
FlashMode | Unknown |
FlashRedEyeMode | False |
FlashReturn | No return detection |
FNumber | 7.1 |
FocalLength | 24.0 mm |
FocalLength35efl | 24.0 mm (35 mm equivalent: 24.0 mm) |
FocalLengthIn35mmFormat | 24 mm |
FOV | 73.7 deg |
GainControl | None |
GradientBasedCorrActive | true |
GradientBasedCorrAmount | 1.000000 |
GradientBasedCorrBrightness | 0.000000 |
GradientBasedCorrClarity (1) | 0.000000 |
GradientBasedCorrClarity | 0.294118 |
GradientBasedCorrContrast | 0.035294 |
GradientBasedCorrExposure | -0.223529 |
GradientBasedCorrHue | 0.000000 |
GradientBasedCorrMaskFullX (1) | 0.947207 |
GradientBasedCorrMaskFullX (2) | 0.407831 |
GradientBasedCorrMaskFullX (3) | 0.640419 |
GradientBasedCorrMaskFullX (4) | 0.064452 |
GradientBasedCorrMaskFullX | 0.944401 |
GradientBasedCorrMaskFullY (1) | 0.462378 |
GradientBasedCorrMaskFullY (2) | 0.075079 |
GradientBasedCorrMaskFullY (3) | 0.987905 |
GradientBasedCorrMaskFullY (4) | 0.536815 |
GradientBasedCorrMaskFullY | 0.571164 |
GradientBasedCorrMaskValue | 1.000000 |
GradientBasedCorrMaskWhat | Mask/Gradient |
GradientBasedCorrMaskZeroX (1) | 0.770970 |
GradientBasedCorrMaskZeroX (2) | 0.387417 |
GradientBasedCorrMaskZeroX (3) | 0.636092 |
GradientBasedCorrMaskZeroX (4) | 0.155896 |
GradientBasedCorrMaskZeroX | 0.877458 |
GradientBasedCorrMaskZeroY (1) | 0.449527 |
GradientBasedCorrMaskZeroY (2) | 0.524501 |
GradientBasedCorrMaskZeroY (3) | 0.705966 |
GradientBasedCorrMaskZeroY (4) | 0.541961 |
GradientBasedCorrMaskZeroY | 0.567683 |
GradientBasedCorrSaturation | 0.000000 |
GradientBasedCorrSharpness | 0.000000 |
GradientBasedCorrWhat | Correction |
GrainAmount | 0 |
GreenHue | 0 |
GreenSaturation | 0 |
HasCrop | True |
HasSettings | True |
HighlightRecovery | 0 |
HueAdjustmentAqua | 0 |
HueAdjustmentBlue | 0 |
HueAdjustmentGreen | 0 |
HueAdjustmentMagenta | 0 |
HueAdjustmentOrange | 0 |
HueAdjustmentPurple | 0 |
HueAdjustmentRed | 0 |
HueAdjustmentYellow | 0 |
HyperfocalDistance | 2.70 m |
ImageHeight | 3500 |
ImageNumber | 12216 |
ImageSize | 2381x3500 |
ImageWidth | 2381 |
ISO | 200 |
Keywords | Svolv¾r, Thon hotell, sommer |
Lens | 24.0-70.0 mm f/2.8 |
LensID (1) | 166 |
LensID | Sigma 24-70mm F2.8 IF EX DG HSM |
LensInfo | 24-70mm f/2.8 |
LensManualDistortionAmount | 0 |
LensProfileEnable | 0 |
LensProfileSetup | LensDefaults |
LightSource | Unknown |
LightValue | 13.3 |
LuminanceAdjustmentAqua | 0 |
LuminanceAdjustmentBlue | 0 |
LuminanceAdjustmentGreen | 0 |
LuminanceAdjustmentMagenta | 0 |
LuminanceAdjustmentOrange | 0 |
LuminanceAdjustmentPurple | 0 |
LuminanceAdjustmentRed | 0 |
LuminanceAdjustmentYellow | 0 |
LuminanceSmoothing | 0 |
Make | NIKON CORPORATION |
MaxApertureValue | 2.8 |
Megapixels | 8.3 |
MeteringMode | Multi-segment |
Model | NIKON D3X |
ModifyDate (1) | 2010:07:28 22:58:52+02:00 |
ModifyDate | 2010:07:28 22:58:52 |
ParametricDarks | 0 |
ParametricHighlights | 0 |
ParametricHighlightSplit | 75 |
ParametricLights | 0 |
ParametricMidtoneSplit | 50 |
ParametricShadows | 0 |
ParametricShadowSplit | 25 |
PerspectiveHorizontal | 0 |
PerspectiveRotate | 0.0 |
PerspectiveScale | 100 |
PerspectiveVertical | 0 |
PostCropVignetteAmount | -7 |
PostCropVignetteFeather | 50 |
PostCropVignetteHighlightContrast | 0 |
PostCropVignetteMidpoint | 50 |
PostCropVignetteRoundness | 0 |
PostCropVignetteStyle | 1 |
ProcessVersion | 5.7 |
ProfileDescription | sRGB IEC61966-2.1 |
RedHue | 0 |
RedSaturation | 0 |
Rights | Carl-Steinar Jenssen |
Saturation (2) | 0 |
Saturation | Normal |
SaturationAdjustmentAqua | 0 |
SaturationAdjustmentBlue | 0 |
SaturationAdjustmentGreen | 0 |
SaturationAdjustmentMagenta | 0 |
SaturationAdjustmentOrange | 0 |
SaturationAdjustmentPurple | 0 |
SaturationAdjustmentRed | 0 |
SaturationAdjustmentYellow | 0 |
ScaleFactor35efl | 1.0 |
SceneCaptureType | Standard |
SceneType | Directly photographed |
SensingMethod | One-chip color area |
SerialNumber | 5002165 |
Shadows | 5 |
ShadowTint | 0 |
SharpenDetail | 25 |
SharpenEdgeMasking | 16 |
SharpenRadius | +1.0 |
Sharpness (2) | 97 |
Sharpness | Normal |
ShutterSpeed | 1/400 |
ShutterSpeedValue | 1/400 |
Software | Ver.1.01 |
SplitToningBalance | 0 |
SplitToningHighlightHue | 0 |
SplitToningHighlightSaturation | 0 |
SplitToningShadowHue | 0 |
SplitToningShadowSaturation | 0 |
Subject | Svolvær, Thon hotell, sommer |
SubjectDistance | 4294967295 m |
SubjectDistanceRange | Unknown |
Tint | -8 |
ToneCurve | 0, 0, 32, 22, 64, 56, 128, 128, 192, 196, 255, 255 |
ToneCurveName | Medium Contrast |
Version | 6.1 |
Vibrance | +30 |
VignetteAmount | 0 |
WhiteBalance (2) | As Shot |
WhiteBalance | Auto |