Felt | Verdi |
AlreadyApplied | True |
Aperture | 9.0 |
ApertureValue | 9.0 |
BitsPerSample | 8 |
BlueHue | 0 |
BlueSaturation | 0 |
Brightness | +50 |
CameraProfile | Adobe Standard |
CFAPattern | [Green,Red][Blue,Green] |
ChromaticAberrationB | 0 |
ChromaticAberrationR | 0 |
CircleOfConfusion | 0.020 mm |
Clarity | +50 |
ColorComponents | 3 |
ColorNoiseReduction | 4 |
ColorTemperature | 4250 |
Contrast (2) | +25 |
Contrast | Low |
ConvertToGrayscale | False |
CreateDate (1) | 2010:07:25 12:19:09.41+02:00 |
CreateDate | 2010:07:25 12:19:09 |
CreatorTool | Adobe Photoshop Lightroom |
CropAngle | 0 |
CropBottom | 0.813374 |
CropHeight | 600 |
CropLeft | 0.330951 |
CropRight | 0.540956 |
CropTop | 0.603369 |
CropUnit | pixels |
CropWidth | 896 |
CustomRendered | Normal |
DateTimeDigitized | 2010:07:25 12:19:09.41+02:00 |
DateTimeOriginal (1) | 2010:07:25 12:19:09.41+02:00 |
DateTimeOriginal | 2010:07:25 12:19:09 |
Defringe | 0 |
DigitalZoomRatio | 1 |
DOF | 1.00 m (10.13 - 11.12 m) |
ExifImageHeight | 600 |
ExifImageWidth | 896 |
Exposure | +0.57 |
ExposureCompensation | -1/3 |
ExposureMode | Auto |
ExposureProgram | Program AE |
ExposureTime | 1/180 |
FillLight | 0 |
Flash | No Flash |
FlashFired | False |
FlashFunction | False |
FlashMode | Unknown |
FlashRedEyeMode | False |
FlashReturn | No return detection |
FNumber | 9.0 |
FocalLength | 200.0 mm |
FocalLength35efl | 200.0 mm (35 mm equivalent: 300.0 mm) |
FocalLengthIn35mmFormat | 300 mm |
FOV | 6.9 deg |
GainControl | Low gain up |
GradientBasedCorrActive | true |
GradientBasedCorrAmount | 1.000000 |
GradientBasedCorrBrightness | 0.000000 |
GradientBasedCorrClarity (1) | 0.500000 |
GradientBasedCorrClarity (2) | 0.000000 |
GradientBasedCorrClarity | -0.425000 |
GradientBasedCorrContrast (1) | -0.650000 |
GradientBasedCorrContrast (2) | 0.000000 |
GradientBasedCorrContrast | 0.475000 |
GradientBasedCorrExposure (1) | -0.125000 |
GradientBasedCorrExposure (2) | -0.100000 |
GradientBasedCorrExposure | 0.125000 |
GradientBasedCorrHue | 116.000000 |
GradientBasedCorrMaskFullX (1) | 0.323718 |
GradientBasedCorrMaskFullX (2) | 0.545089 |
GradientBasedCorrMaskFullX | 0.322427 |
GradientBasedCorrMaskFullY (1) | 0.702967 |
GradientBasedCorrMaskFullY (2) | 0.597964 |
GradientBasedCorrMaskFullY | 0.819165 |
GradientBasedCorrMaskValue | 1.000000 |
GradientBasedCorrMaskWhat | Mask/Gradient |
GradientBasedCorrMaskZeroX (1) | 0.479479 |
GradientBasedCorrMaskZeroX (2) | 0.474571 |
GradientBasedCorrMaskZeroX | 0.535532 |
GradientBasedCorrMaskZeroY (1) | 0.704897 |
GradientBasedCorrMaskZeroY (2) | 0.659345 |
GradientBasedCorrMaskZeroY | 0.717250 |
GradientBasedCorrSaturation (1) | -0.125000 |
GradientBasedCorrSaturation (3) | -0.250000 |
GradientBasedCorrSaturation (5) | -0.100000 |
GradientBasedCorrSaturation | 0.000000 |
GradientBasedCorrSharpness | 0.000000 |
GradientBasedCorrWhat | Correction |
GreenHue | 0 |
GreenSaturation | 0 |
HasCrop | True |
HasSettings | True |
HighlightRecovery | 0 |
HueAdjustmentAqua | 0 |
HueAdjustmentBlue | 0 |
HueAdjustmentGreen | 0 |
HueAdjustmentMagenta | 0 |
HueAdjustmentOrange | 0 |
HueAdjustmentPurple | 0 |
HueAdjustmentRed | 0 |
HueAdjustmentYellow | 0 |
HyperfocalDistance | 221.88 m |
ImageHeight | 600 |
ImageNumber | 21184 |
ImageSize | 896x600 |
ImageWidth | 896 |
ISO | 400 |
Lens | 18.0-200.0 mm f/3.5-5.6 |
LensID (1) | 139 |
LensID | AF-S DX VR Zoom-Nikkor 18-200mm f/3.5-5.6G IF-ED [II] or AF-S DX VR Zoom-Nikkor 18-200mm f/3.5-5.6G IF-ED |
LensInfo | 18-200mm f/3.5-5.6 |
LightSource | Unknown |
LightValue | 11.8 |
LuminanceAdjustmentAqua | 0 |
LuminanceAdjustmentBlue | 0 |
LuminanceAdjustmentGreen | 0 |
LuminanceAdjustmentMagenta | 0 |
LuminanceAdjustmentOrange | 0 |
LuminanceAdjustmentPurple | 0 |
LuminanceAdjustmentRed | 0 |
LuminanceAdjustmentYellow | 0 |
LuminanceSmoothing | 12 |
Make | NIKON CORPORATION |
MaxApertureValue | 5.7 |
Megapixels | 0.538 |
MeteringMode | Spot |
Model | NIKON D200 |
ModifyDate (1) | 2010:08:23 16:19:06+02:00 |
ModifyDate | 2010:08:23 16:19:06 |
PaintCorrectionActive | true |
PaintCorrectionAmount | 1.000000 |
PaintCorrectionBrightness | 0.000000 |
PaintCorrectionClarity (1) | 0.475000 |
PaintCorrectionClarity (2) | 0.000000 |
PaintCorrectionClarity | -0.675000 |
PaintCorrectionContrast (1) | 0.100000 |
PaintCorrectionContrast (2) | 0.000000 |
PaintCorrectionContrast | -0.725000 |
PaintCorrectionExposure (1) | 0.125000 |
PaintCorrectionExposure (2) | 0.000000 |
PaintCorrectionExposure | -0.175000 |
PaintCorrectionHue | 116.000000 |
PaintCorrectionMaskCenterWeight (2) | 0.060682 |
PaintCorrectionMaskCenterWeight | 0.000000 |
PaintCorrectionMaskFlow (10) | 1.000000 |
PaintCorrectionMaskFlow | 0.753000 |
PaintCorrectionMaskRadius (1) | 0.012399 |
PaintCorrectionMaskRadius (8) | 0.023681 |
PaintCorrectionMaskRadius | 0.031471 |
PaintCorrectionMaskValue (6) | 1.000000 |
PaintCorrectionMaskValue | 0.000000 |
PaintCorrectionMaskWhat | Mask/Paint |
PaintCorrectionSaturation (3) | 0.375000 |
PaintCorrectionSaturation (5) | -0.450000 |
PaintCorrectionSaturation | 0.000000 |
PaintCorrectionSharpness (1) | 0.200000 |
PaintCorrectionSharpness | 0.000000 |
PaintCorrectionWhat | Correction |
ParametricDarks | -5 |
ParametricHighlights | +31 |
ParametricHighlightSplit | 75 |
ParametricLights | +17 |
ParametricMidtoneSplit | 50 |
ParametricShadows | -26 |
ParametricShadowSplit | 25 |
PostCropVignetteAmount | 0 |
ProfileDescription | sRGB IEC61966-2.1 |
Rating | 1 |
RedHue | 0 |
RedSaturation | 0 |
Saturation (2) | 0 |
Saturation | Normal |
SaturationAdjustmentAqua | 0 |
SaturationAdjustmentBlue | 0 |
SaturationAdjustmentGreen | 0 |
SaturationAdjustmentMagenta | 0 |
SaturationAdjustmentOrange | 0 |
SaturationAdjustmentPurple | 0 |
SaturationAdjustmentRed | 0 |
SaturationAdjustmentYellow | 0 |
ScaleFactor35efl | 1.5 |
SceneCaptureType | Standard |
SceneType | Directly photographed |
SensingMethod | One-chip color area |
Shadows | 5 |
ShadowTint | 0 |
SharpenDetail | 73 |
SharpenEdgeMasking | 15 |
SharpenRadius | +2.7 |
Sharpness (2) | 150 |
Sharpness | Hard |
ShutterSpeed | 1/180 |
ShutterSpeedValue | 1/180 |
Software | Ver.2.00 |
SplitToningBalance | 0 |
SplitToningHighlightHue | 0 |
SplitToningHighlightSaturation | 0 |
SplitToningShadowHue | 0 |
SplitToningShadowSaturation | 0 |
SubjectDistance | 10.6 m |
SubjectDistanceRange | Unknown |
Tint | -12 |
ToneCurve | 0, 0, 32, 22, 64, 56, 128, 128, 192, 196, 255, 255 |
ToneCurveName | Medium Contrast |
UserComment | Espen Seierstad |
Version | 5.7 |
Vibrance | +2 |
VignetteAmount | 0 |
WhiteBalance (2) | As Shot |
WhiteBalance | Auto |