Felt | Verdi |
AlreadyApplied | True |
Aperture | 5.6 |
ApertureValue | 5.6 |
BitsPerSample | 8 |
BlueHue | 0 |
BlueSaturation | 0 |
Brightness | +50 |
CameraProfile | Adobe Standard |
CFAPattern | [Red,Green][Green,Blue] |
ChromaticAberrationB | 0 |
ChromaticAberrationR | 0 |
CircleOfConfusion | 0.020 mm |
Clarity | 0 |
ColorComponents | 3 |
ColorNoiseReduction | 44 |
ColorNoiseReductionDetail | 50 |
ColorTemperature | 6713 |
Contrast (2) | +47 |
Contrast | Normal |
ConvertToGrayscale | False |
CreateDate (1) | 2010:08:08 19:50:18.59+02:00 |
CreateDate | 2010:08:08 19:50:18 |
CreatorTool | Adobe Photoshop Lightroom |
CropAngle | 2.19063 |
CropBottom | 0.626292 |
CropConstrainToWarp | 0 |
CropHeight | 792 |
CropLeft | 0.375165 |
CropRight | 0.682445 |
CropTop | 0.330614 |
CropUnit | pixels |
CropWidth | 1349 |
CustomRendered | Normal |
DateTimeDigitized | 2010:08:08 19:50:18.59+02:00 |
DateTimeOriginal (1) | 2010:08:08 19:50:18.59+02:00 |
DateTimeOriginal | 2010:08:08 19:50:18 |
Defringe | 0 |
DigitalZoomRatio | 1 |
DOF | inf (2228.70 m - inf) |
ExifImageHeight | 792 |
ExifImageWidth | 1349 |
Exposure | -0.78 |
ExposureCompensation | 0 |
ExposureMode | Auto |
ExposureProgram | Aperture-priority AE |
ExposureTime | 1/320 |
FillLight | 0 |
Flash | No Flash |
FlashFired | False |
FlashFunction | False |
FlashMode | Unknown |
FlashRedEyeMode | False |
FlashReturn | No return detection |
FNumber | 5.6 |
FocalLength | 500.0 mm |
FocalLength35efl | 500.0 mm (35 mm equivalent: 750.0 mm) |
FocalLengthIn35mmFormat | 750 mm |
FOV | 2.7 deg |
GainControl | Low gain up |
GPSAltitude (1) | 3 m |
GPSAltitude | 3 m Above Sea Level |
GPSAltitudeRef | Above Sea Level |
GPSDateStamp | 2010:08:08 |
GPSDateTime | 2010:08:08 17:51:14Z |
GPSLatitude (2) | 39 deg 48' 25.84" |
GPSLatitude | 39 deg 48' 25.84" N |
GPSLatitudeRef | North |
GPSLongitude (2) | 3 deg 6' 0.68" |
GPSLongitude | 3 deg 6' 0.68" E |
GPSLongitudeRef | East |
GPSPosition | 39 deg 48' 25.84" N, 3 deg 6' 0.68" E |
GPSSatellites | 08 |
GPSTimeStamp | 17:51:14 |
GPSVersionID | 2.2.0.0 |
GrainAmount | 0 |
GreenHue | 0 |
GreenSaturation | 0 |
HasCrop | True |
HasSettings | True |
HighlightRecovery | 0 |
HueAdjustmentAqua | 0 |
HueAdjustmentBlue | 0 |
HueAdjustmentGreen | 0 |
HueAdjustmentMagenta | 0 |
HueAdjustmentOrange | 0 |
HueAdjustmentPurple | 0 |
HueAdjustmentRed | 0 |
HueAdjustmentYellow | 0 |
HyperfocalDistance | 2228.71 m |
ImageHeight | 792 |
ImageNumber | 21872 |
ImageSize | 1349x792 |
ImageWidth | 1349 |
ISO | 400 |
Keywords | S`abufera |
Lens | 300.0 mm f/2.8 |
LensID (1) | 130 |
LensID | AF-S VR Nikkor 300mm f/2.8G IF-ED |
LensInfo | 300mm f/2.8 |
LensManualDistortionAmount | 0 |
LensProfileEnable | 0 |
LensProfileSetup | LensDefaults |
LightSource | Unknown |
LightValue | 11.3 |
LuminanceAdjustmentAqua | 0 |
LuminanceAdjustmentBlue | 0 |
LuminanceAdjustmentGreen | 0 |
LuminanceAdjustmentMagenta | 0 |
LuminanceAdjustmentOrange | 0 |
LuminanceAdjustmentPurple | 0 |
LuminanceAdjustmentRed | 0 |
LuminanceAdjustmentYellow | 0 |
LuminanceNoiseReductionContrast | 18 |
LuminanceNoiseReductionDetail | 66 |
LuminanceSmoothing | 68 |
Make | NIKON CORPORATION |
MaxApertureValue | 4.8 |
Megapixels | 1.1 |
MeteringMode | Multi-segment |
Model | NIKON D300 |
ModifyDate (1) | 2010:08:25 20:10:42+02:00 |
ModifyDate | 2010:08:25 20:10:42 |
ParametricDarks | 0 |
ParametricHighlights | 0 |
ParametricHighlightSplit | 75 |
ParametricLights | 0 |
ParametricMidtoneSplit | 50 |
ParametricShadows | 0 |
ParametricShadowSplit | 25 |
PerspectiveHorizontal | 0 |
PerspectiveRotate | 0.0 |
PerspectiveScale | 100 |
PerspectiveVertical | 0 |
PostCropVignetteAmount | 0 |
ProcessVersion | 5.7 |
ProfileDescription | ProPhoto RGB |
RedHue | 0 |
RedSaturation | 0 |
Saturation (2) | 0 |
Saturation | Normal |
SaturationAdjustmentAqua | -70 |
SaturationAdjustmentBlue | -80 |
SaturationAdjustmentGreen | 0 |
SaturationAdjustmentMagenta | 0 |
SaturationAdjustmentOrange | 0 |
SaturationAdjustmentPurple | 0 |
SaturationAdjustmentRed | 0 |
SaturationAdjustmentYellow | 0 |
ScaleFactor35efl | 1.5 |
SceneCaptureType | Standard |
SceneType | Directly photographed |
SensingMethod | One-chip color area |
SerialNumber | 4023991 |
Shadows | 9 |
ShadowTint | 0 |
SharpenDetail | 51 |
SharpenEdgeMasking | 0 |
SharpenRadius | +1.0 |
Sharpness (2) | 79 |
Sharpness | Normal |
ShutterSpeed | 1/320 |
ShutterSpeedValue | 1/320 |
Software | Ver.1.10 |
SplitToningBalance | 0 |
SplitToningHighlightHue | 0 |
SplitToningHighlightSaturation | 0 |
SplitToningShadowHue | 0 |
SplitToningShadowSaturation | 0 |
Subject | S`abufera |
SubjectDistance | 4294967295 m |
SubjectDistanceRange | Unknown |
Tint | +18 |
ToneCurve | 0, 0, 32, 22, 64, 56, 128, 128, 192, 196, 255, 255 |
ToneCurveName | Medium Contrast |
Version | 6.1 |
Vibrance | 0 |
VignetteAmount | 0 |
WhiteBalance (2) | Custom |
WhiteBalance | Auto |