Felt | Verdi |
AlreadyApplied | True |
Aperture | 3.5 |
ApertureValue | 3.5 |
Artist | Lars-Alexander Erevik Riise |
BitsPerSample | 8 |
BlueHue | 0 |
BlueSaturation | 0 |
Brightness | +50 |
CameraProfile | ACR 4.4 |
CFAPattern | [Red,Green][Green,Blue] |
ChromaticAberrationB | 0 |
ChromaticAberrationR | 0 |
CircleOfConfusion | 0.020 mm |
Clarity | 0 |
ColorComponents | 3 |
ColorNoiseReduction | 14 |
ColorTemperature | 4350 |
Contrast (2) | -23 |
Contrast | Normal |
ConvertToGrayscale | False |
Copyright | LAR |
CreateDate (1) | 2010:09:16 21:07:34.92+02:00 |
CreateDate | 2010:09:16 21:07:34 |
Creator | Lars-Alexander Erevik Riise |
CreatorTool | Adobe Photoshop Lightroom |
CropAngle | 0 |
CropBottom | 1 |
CropHeight | 2393 |
CropLeft | 0 |
CropRight | 0.81744 |
CropTop | 0.159836 |
CropUnit | pixels |
CropWidth | 3505 |
CustomRendered | Normal |
DateTimeDigitized | 2010:09:16 21:07:34.92+02:00 |
DateTimeOriginal (1) | 2010:09:16 21:07:34.92+02:00 |
DateTimeOriginal | 2010:09:16 21:07:34 |
Defringe | 0 |
DigitalZoomRatio | 1 |
ExifImageHeight | 3505 |
ExifImageWidth | 2393 |
Exposure | -2.67 |
ExposureCompensation | -1 |
ExposureMode | Auto |
ExposureProgram | Program AE |
ExposureTime | 0.6 |
FillLight | 5 |
Flash (1) |
Flash | No Flash |
FNumber | 3.5 |
FocalLength | 18.0 mm |
FocalLength35efl | 18.0 mm (35 mm equivalent: 27.0 mm) |
FocalLengthIn35mmFormat | 27 mm |
FOV | 67.4 deg |
GainControl | None |
GreenHue | 0 |
GreenSaturation | 0 |
HasCrop | True |
HasSettings | True |
HighlightRecovery | 0 |
HueAdjustmentAqua | 0 |
HueAdjustmentBlue | 0 |
HueAdjustmentGreen | 0 |
HueAdjustmentMagenta | 0 |
HueAdjustmentOrange | 0 |
HueAdjustmentPurple | 0 |
HueAdjustmentRed | 0 |
HueAdjustmentYellow | 0 |
HyperfocalDistance | 4.62 m |
ImageHeight (1) | 3505 |
ImageHeight | 3404 |
ImageNumber | 12106 |
ImageSize | 2498x3404 |
ImageWidth (1) | 2393 |
ImageWidth | 2498 |
ISO | 100 |
Lens | 18.0-70.0 mm f/3.5-4.5 |
LensInfo | 18-70mm f/3.5-4.5 |
LightSource | Unknown |
LightValue | 4.4 |
LuminanceAdjustmentAqua | 0 |
LuminanceAdjustmentBlue | 0 |
LuminanceAdjustmentGreen | 0 |
LuminanceAdjustmentMagenta | 0 |
LuminanceAdjustmentOrange | 0 |
LuminanceAdjustmentPurple | 0 |
LuminanceAdjustmentRed | 0 |
LuminanceAdjustmentYellow | 0 |
LuminanceSmoothing | 0 |
Make | NIKON CORPORATION |
MaxApertureValue | 3.5 |
Megapixels | 8.5 |
MeteringMode | Multi-segment |
Model | NIKON D300 |
ModifyDate (1) | 2010:09:16 22:06:05+02:00 |
ModifyDate | 2010:09:16 22:11:02 |
ParametricDarks | +100 |
ParametricHighlights | -100 |
ParametricHighlightSplit | 75 |
ParametricLights | +100 |
ParametricMidtoneSplit | 50 |
ParametricShadows | +93 |
ParametricShadowSplit | 25 |
PostCropVignetteAmount | 0 |
RedHue | 0 |
RedSaturation | 0 |
Rights | LAR |
Saturation (2) | 0 |
Saturation | Normal |
SaturationAdjustmentAqua | +7 |
SaturationAdjustmentBlue | 0 |
SaturationAdjustmentGreen | +21 |
SaturationAdjustmentMagenta | 0 |
SaturationAdjustmentOrange | 0 |
SaturationAdjustmentPurple | 0 |
SaturationAdjustmentRed | +88 |
SaturationAdjustmentYellow | +21 |
ScaleFactor35efl | 1.5 |
SceneCaptureType | Standard |
SceneType | Directly photographed |
SensingMethod | One-chip color area |
SerialNumber | 4145049 |
Shadows | 4 |
ShadowTint | 0 |
SharpenDetail | 37 |
SharpenEdgeMasking | 0 |
SharpenRadius | +0.9 |
Sharpness (2) | 150 |
Sharpness | Hard |
ShutterSpeed | 0.6 |
ShutterSpeedValue | 0.6 |
Software | GIMP 2.6.2 |
SplitToningBalance | 0 |
SplitToningHighlightHue | 0 |
SplitToningHighlightSaturation | 0 |
SplitToningShadowHue | 0 |
SplitToningShadowSaturation | 0 |
SubjectDistanceRange | Unknown |
Tint | +65 |
ToneCurve | 0, 0, 32, 22, 64, 56, 128, 128, 192, 196, 255, 255 |
ToneCurveName | Medium Contrast |
Version | 4.6 |
Vibrance | 0 |
VignetteAmount | 0 |
WhiteBalance (2) | As Shot |
WhiteBalance | Auto |