Felt | Verdi |
AlreadyApplied | True |
Aperture | 4.0 |
ApertureValue | 4.0 |
BitsPerSample | 8 |
BlueHue | 0 |
BlueSaturation | 0 |
Brightness | +36 |
CameraProfile | Adobe Standard |
ChromaticAberrationB | 0 |
ChromaticAberrationR | 0 |
CircleOfConfusion | 0.006 mm |
Clarity | +45 |
ColorComponents | 1 |
ColorNoiseReduction | 25 |
ColorNoiseReductionDetail | 50 |
ColorTemperature | 47000 |
Contrast | +64 |
ConvertToGrayscale | True |
CreateDate (1) | 2010:10:27 12:48:45+02:00 |
CreateDate | 2010:10:27 12:48:45 |
CreatorTool | Adobe Photoshop Lightroom |
DateTimeDigitized | 2010:10:27 12:48:45+02:00 |
DateTimeOriginal (1) | 2010:10:27 12:48:45+02:00 |
DateTimeOriginal | 2010:10:27 12:48:45 |
Defringe | 0 |
ExifImageHeight | 2520 |
ExifImageWidth | 3776 |
Exposure | -1.24 |
ExposureCompensation | 0 |
ExposureProgram | Aperture-priority AE |
ExposureTime | 1/13 |
FillLight | 0 |
Flash | Off, Did not fire |
FlashFired | False |
FlashFunction | False |
FlashMode | Off |
FlashRedEyeMode | False |
FlashReturn | No return detection |
FNumber | 4.0 |
FocalLength | 5.1 mm |
FocalLength35efl | 5.1 mm (35 mm equivalent: 24.0 mm) |
FocalLengthIn35mmFormat | 24 mm |
FOV | 73.7 deg |
GrainAmount | 0 |
GrayMixerAqua | -20 |
GrayMixerBlue | -5 |
GrayMixerGreen | -11 |
GrayMixerMagenta | +2 |
GrayMixerOrange | 0 |
GrayMixerPurple | +2 |
GrayMixerRed | +2 |
GrayMixerYellow | 0 |
GreenHue | 0 |
GreenSaturation | 0 |
HasCrop | False |
HasSettings | True |
HighlightRecovery | 0 |
HyperfocalDistance | 1.02 m |
ImageHeight | 2520 |
ImageSize | 3776x2520 |
ImageWidth | 3776 |
ISO | 800 |
LensManualDistortionAmount | 0 |
LensProfileEnable | 0 |
LensProfileSetup | LensDefaults |
LightValue | 4.7 |
LuminanceNoiseReductionContrast | 0 |
LuminanceNoiseReductionDetail | 50 |
LuminanceSmoothing | 17 |
Make | LEICA |
MaxApertureValue | 2.0 |
Megapixels | 9.5 |
MeteringMode | Multi-segment |
Model | D-LUX 5 |
ModifyDate (1) | 2010:10:27 13:26:00+02:00 |
ModifyDate | 2010:10:27 13:26:00 |
ParametricDarks | -3 |
ParametricHighlights | -16 |
ParametricHighlightSplit | 75 |
ParametricLights | 0 |
ParametricMidtoneSplit | 50 |
ParametricShadows | 0 |
ParametricShadowSplit | 25 |
PerspectiveHorizontal | 0 |
PerspectiveRotate | 0.0 |
PerspectiveScale | 100 |
PerspectiveVertical | 0 |
PostCropVignetteAmount | 0 |
ProcessVersion | 5.7 |
ProfileDescription | sRGB IEC61966-2.1 |
RedHue | 0 |
RedSaturation | 0 |
ScaleFactor35efl | 4.7 |
SensitivityType | Unknown |
Shadows | 5 |
ShadowTint | 0 |
SharpenDetail | 25 |
SharpenEdgeMasking | 0 |
SharpenRadius | +1.0 |
Sharpness | 24 |
ShutterSpeed | 1/13 |
ShutterSpeedValue | 1/13 |
SplitToningBalance | 0 |
SplitToningHighlightHue | 0 |
SplitToningHighlightSaturation | 0 |
SplitToningShadowHue | 0 |
SplitToningShadowSaturation | 0 |
Tint | -150 |
ToneCurve | 0, 0, 32, 22, 64, 56, 128, 128, 192, 196, 255, 255 |
ToneCurveName | Medium Contrast |
Version | 6.2 |
VignetteAmount | 0 |
WhiteBalance | As Shot |