Felt | Verdi |
AlreadyApplied | True |
Aperture | 3.8 |
ApertureValue | 3.8 |
ApproximateFocusDistance | 0.21 |
BitsPerSample (1) | 8 8 8 |
BitsPerSample | 8 |
BlueHue | 0 |
BlueSaturation | 0 |
Brightness | +65 |
CameraProfile | Adobe Standard |
CFAPattern | [Green,Blue][Red,Green] |
ChromaticAberrationB | 0 |
ChromaticAberrationR | 0 |
CircleOfConfusion | 0.020 mm |
Clarity | +98 |
ColorComponents | 3 |
ColorMode | RGB |
ColorNoiseReduction | 25 |
ColorNoiseReductionDetail | 50 |
ColorSpace | Uncalibrated |
ColorTemperature | 4350 |
Contrast (1) | +73 |
Contrast | Normal |
ConvertToGrayscale | False |
CreateDate (1) | 2011:06:15 12:41:34.00+02:00 |
CreateDate | 2011:06:15 12:41:34 |
CreatorTool | Adobe Photoshop CS5 Macintosh |
CropAngle | 0 |
CropBottom | 0.808974 |
CropLeft | 0.141631 |
CropRight | 0.872103 |
CropTop | 0.101282 |
CustomRendered | Normal |
DateCreated (1) | 2011:06:15 |
DateCreated | 2011:06:15 12:41:34 |
DateTimeOriginal | 2011:06:15 12:41:34 |
Defringe | 0 |
DigitalZoomRatio | 1 |
DOF | 0.001 m (0.209 - 0.211 m) |
ExifImageHeight | 1146 |
ExifImageWidth | 1768 |
Exposure | +0.65 |
ExposureCompensation | 0 |
ExposureMode | Auto |
ExposureProgram | Not Defined |
ExposureTime | 1/60 |
FillLight | 0 |
Flash | Auto, Did not fire |
FNumber | 3.8 |
FocalLength | 60.0 mm |
FocalLength35efl | 60.0 mm (35 mm equivalent: 90.0 mm) |
FocalLengthIn35mmFormat | 90 mm |
Format | image/jpeg |
FOV | 22.6 deg |
GainControl | Low gain up |
GrainAmount | 0 |
GreenHue | 0 |
GreenSaturation | 0 |
HasCrop | True |
HasSettings | True |
HighlightRecovery | 0 |
HueAdjustmentAqua | 0 |
HueAdjustmentBlue | 0 |
HueAdjustmentGreen | 0 |
HueAdjustmentMagenta | 0 |
HueAdjustmentOrange | 0 |
HueAdjustmentPurple | 0 |
HueAdjustmentRed | 0 |
HueAdjustmentYellow | 0 |
HyperfocalDistance | 47.30 m |
ICCProfileName | ProPhoto RGB |
ImageHeight (1) | 1834 |
ImageHeight | 1146 |
ImageNumber | 6995 |
ImageSize | 1768x1146 |
ImageWidth (1) | 2828 |
ImageWidth | 1768 |
ISO | 400 |
Label | |
Lens | 60.0 mm f/2.8 |
LensID (1) | 156 |
LensID | AF-S Micro Nikkor 60mm f/2.8G ED |
LensInfo | 60mm f/2.8 |
LightSource | Unknown |
LightValue | 7.8 |
LuminanceAdjustmentAqua | 0 |
LuminanceAdjustmentBlue | 0 |
LuminanceAdjustmentGreen | 0 |
LuminanceAdjustmentMagenta | 0 |
LuminanceAdjustmentOrange | 0 |
LuminanceAdjustmentPurple | 0 |
LuminanceAdjustmentRed | 0 |
LuminanceAdjustmentYellow | 0 |
LuminanceSmoothing | 0 |
Make | NIKON CORPORATION |
MaxApertureValue | 3.7 |
Megapixels | 2.0 |
MeteringMode | Multi-segment |
Model | NIKON D3000 |
ModifyDate (1) | 2011:06:17 18:49:18+02:00 |
ModifyDate | 2011:06:17 18:49:18 |
Orientation | Horizontal (normal) |
ParametricDarks | 0 |
ParametricHighlights | +52 |
ParametricHighlightSplit | 75 |
ParametricLights | +35 |
ParametricMidtoneSplit | 50 |
ParametricShadows | 0 |
ParametricShadowSplit | 25 |
PhotometricInterpretation | RGB |
PostCropVignetteAmount | -68 |
PostCropVignetteFeather | 50 |
PostCropVignetteHighlightContrast | 0 |
PostCropVignetteMidpoint | 50 |
PostCropVignetteRoundness | 0 |
PostCropVignetteStyle | 1 |
ProcessVersion | 5.7 |
ProfileDescription | ProPhoto RGB |
Rating | 0 |
RawFileName | DSC_0663.NEF |
RedHue | 0 |
RedSaturation | 0 |
Saturation (1) | +61 |
Saturation | Normal |
SaturationAdjustmentAqua | 0 |
SaturationAdjustmentBlue | +21 |
SaturationAdjustmentGreen | +31 |
SaturationAdjustmentMagenta | 0 |
SaturationAdjustmentOrange | 0 |
SaturationAdjustmentPurple | 0 |
SaturationAdjustmentRed | 0 |
SaturationAdjustmentYellow | 0 |
ScaleFactor35efl | 1.5 |
SceneCaptureType | Standard |
SceneType | Directly photographed |
SensingMethod | One-chip color area |
SerialNumber | 6595072 |
Shadows | 16 |
ShadowTint | 0 |
SharpenDetail | 25 |
SharpenEdgeMasking | 0 |
SharpenRadius | +1.0 |
Sharpness (1) | 25 |
Sharpness | Normal |
ShutterSpeed | 1/60 |
ShutterSpeedValue | 1/60 |
Software | Adobe Photoshop CS5 Macintosh |
SplitToningBalance | 0 |
SplitToningHighlightHue | 0 |
SplitToningHighlightSaturation | 0 |
SplitToningShadowHue | 0 |
SplitToningShadowSaturation | 0 |
SubjectDistance | 0.21 m |
SubjectDistanceRange | Unknown |
Tint | -3 |
ToneCurve | 0, 0, 32, 22, 64, 56, 128, 128, 192, 196, 255, 255 |
ToneCurveName | Medium Contrast |
URL_List | |
Version | 6.0 |
Vibrance | 0 |
VignetteAmount | 0 |
WhiteBalance (1) | As Shot |
WhiteBalance | Auto |