Felt | Verdi |
AlreadyApplied | True |
AutoLateralCA | 0 |
BitsPerSample | 8 |
Blacks2012 | -32 |
BlueHue | 0 |
BlueSaturation | 0 |
CameraProfile | Embedded |
Clarity2012 | +49 |
ColorComponents | 3 |
ColorMode | RGB |
ColorNoiseReduction | 0 |
ColorSpace | Uncalibrated |
Contrast2012 | +17 |
ConvertToGrayscale | False |
CreateDate | 2011:10:16 05:28:20 |
CropAngle | 2.46037 |
CropBottom | 1 |
CropConstrainToWarp | 1 |
CropLeft | 0.097404 |
CropRight | 0.973008 |
CropTop | 0.00474 |
DateCreated (1) | 0000:00:00 |
DateCreated | 0000:01:01 05:28:20 |
DateTimeOriginal | 2011:10:16 05:28:20 |
DefringeGreenAmount | 0 |
DefringeGreenHueHi | 60 |
DefringeGreenHueLo | 40 |
DefringePurpleAmount | 0 |
DefringePurpleHueHi | 70 |
DefringePurpleHueLo | 30 |
Description | |
ExifImageHeight | 1002 |
ExifImageWidth | 1726 |
Exposure2012 | +0.15 |
Format | image/jpeg |
GradientBasedCorrActive | true |
GradientBasedCorrAmount | 1.000000 |
GradientBasedCorrBrightness | 0.000000 |
GradientBasedCorrClarity | 0.000000 |
GradientBasedCorrClarity2012 | 0.020000 |
GradientBasedCorrContrast | 0.000000 |
GradientBasedCorrContrast2012 | 0.180000 |
GradientBasedCorrDefringe | -0.430000 |
GradientBasedCorrExposure | 0.000000 |
GradientBasedCorrExposure2012 | 0.562500 |
GradientBasedCorrHighlights2012 | 0.020000 |
GradientBasedCorrHue | 255.000000 |
GradientBasedCorrLuminanceNoise | 0.400000 |
GradientBasedCorrMaskFullX | 0.497358 |
GradientBasedCorrMaskFullY | 1.014170 |
GradientBasedCorrMaskValue | 1.000000 |
GradientBasedCorrMaskWhat | Mask/Gradient |
GradientBasedCorrMaskZeroX | 0.504578 |
GradientBasedCorrMaskZeroY | 0.646342 |
GradientBasedCorrMoire | 0.000000 |
GradientBasedCorrSaturation (1) | 0.580000 |
GradientBasedCorrSaturation | 0.000000 |
GradientBasedCorrShadows2012 | -0.570000 |
GradientBasedCorrSharpness | 0.210000 |
GradientBasedCorrTemperature | -0.100000 |
GradientBasedCorrTint | -0.200000 |
GradientBasedCorrWhat | Correction |
GrainAmount | 0 |
GreenHue | 0 |
GreenSaturation | 0 |
HasCrop | True |
HasSettings | True |
Highlights2012 | -73 |
HueAdjustmentAqua | 0 |
HueAdjustmentBlue | 0 |
HueAdjustmentGreen | 0 |
HueAdjustmentMagenta | 0 |
HueAdjustmentOrange | 0 |
HueAdjustmentPurple | 0 |
HueAdjustmentRed | 0 |
HueAdjustmentYellow | 0 |
ICCProfileName | Adobe RGB (1998) |
ImageHeight | 1002 |
ImageSize | 1726x1002 |
ImageWidth | 1726 |
IncrementalTemperature | -1 |
IncrementalTint | -24 |
LensManualDistortionAmount | 0 |
LensProfileEnable | 0 |
LensProfileSetup | LensDefaults |
LuminanceAdjustmentAqua | 0 |
LuminanceAdjustmentBlue | 0 |
LuminanceAdjustmentGreen | 0 |
LuminanceAdjustmentMagenta | 0 |
LuminanceAdjustmentOrange | 0 |
LuminanceAdjustmentPurple | 0 |
LuminanceAdjustmentRed | 0 |
LuminanceAdjustmentYellow | +14 |
LuminanceSmoothing | 0 |
Megapixels | 1.7 |
ModifyDate (1) | 2012:09:16 11:37:52+02:00 |
ModifyDate | 2012:09:16 11:37:52 |
Orientation | Horizontal (normal) |
ParametricDarks | 0 |
ParametricHighlights | 0 |
ParametricHighlightSplit | 75 |
ParametricLights | 0 |
ParametricMidtoneSplit | 50 |
ParametricShadows | 0 |
ParametricShadowSplit | 25 |
PerspectiveHorizontal | 0 |
PerspectiveRotate | 0.0 |
PerspectiveScale | 100 |
PerspectiveVertical | 0 |
PostCropVignetteAmount | 0 |
ProcessVersion | 6.7 |
ProfileDescription | Adobe RGB (1998) |
Rating | 0 |
RawFileName | GOPR0041-21393.jpeg |
RedHue | 0 |
RedSaturation | 0 |
Rights | |
Saturation | 0 |
SaturationAdjustmentAqua | 0 |
SaturationAdjustmentBlue | 0 |
SaturationAdjustmentGreen | 0 |
SaturationAdjustmentMagenta | 0 |
SaturationAdjustmentOrange | 0 |
SaturationAdjustmentPurple | 0 |
SaturationAdjustmentRed | 0 |
SaturationAdjustmentYellow | 0 |
Shadows2012 | +30 |
ShadowTint | 0 |
SharpenDetail | 25 |
SharpenEdgeMasking | 0 |
SharpenRadius | +1.0 |
Sharpness | 0 |
Software | Adobe Photoshop CS6 (Macintosh) |
SplitToningBalance | 0 |
SplitToningHighlightHue | 0 |
SplitToningHighlightSaturation | 0 |
SplitToningShadowHue | 0 |
SplitToningShadowSaturation | 0 |
Subject | |
ToneCurveName2012 | Linear |
ToneCurvePV2012 | 0, 0, 255, 255 |
ToneCurvePV2012Blue | 0, 0, 255, 255 |
ToneCurvePV2012Green | 0, 0, 255, 255 |
ToneCurvePV2012Red | 0, 0, 255, 255 |
URL_List | |
Version | 7.1 |
Vibrance | +22 |
VignetteAmount | 0 |
WhiteBalance | Custom |
Whites2012 | -51 |