Felt | Verdi |
AlreadyApplied | True |
Aperture | 5.6 |
ApertureValue | 5.6 |
ApproximateFocusDistance | 6.3 |
Artist | G.Kelly |
AutoLateralCA | 0 |
BitsPerSample | 8 |
Blacks2012 | +100 |
BlueHue | 0 |
BlueSaturation | 0 |
By-line | G.Kelly |
CameraProfile | Embedded |
CircleOfConfusion | 0.019 mm |
Clarity2012 | +30 |
ColorComponents | 3 |
ColorNoiseReduction | 0 |
Contrast2012 | 0 |
ConvertToGrayscale | False |
Copyright | Rundtomveien 15. 1440 Drobak NORWAY Mobil:92808550 |
CopyrightNotice | Rundtomveien 15. 1440 Drobak NORWAY Mobil:92808550 |
CreateDate (1) | 2013:06:11 13:50:37.00 |
CreateDate | 2013:06:11 13:50:37 |
Creator | G.Kelly |
CreatorTool | Adobe Photoshop Lightroom 5.0 (Macintosh) |
CropAngle | 0 |
CropBottom | 0.931576 |
CropConstrainToWarp | 0 |
CropLeft | 0.12283 |
CropRight | 1 |
CropTop | 0.054406 |
CustomRendered | Normal |
DateCreated (1) | 2013:06:11 |
DateCreated | 2013:06:11 13:50:37.00 |
DateTimeOriginal | 2013:06:11 13:50:37 |
DefringeGreenAmount | 0 |
DefringeGreenHueHi | 60 |
DefringeGreenHueLo | 40 |
DefringePurpleAmount | 0 |
DefringePurpleHueHi | 70 |
DefringePurpleHueLo | 30 |
DOF | 1.75 m (5.54 - 7.29 m) |
Exposure2012 | +1.64 |
ExposureCompensation | 0 |
ExposureMode | Manual |
ExposureProgram | Manual |
ExposureTime | 1/3200 |
Firmware | 2.0.3 |
Flash | Off, Did not fire |
FlashCompensation | 0 |
FNumber | 5.6 |
FocalLength | 70.0 mm |
FocalLength35efl | 70.0 mm (35 mm equivalent: 109.9 mm) |
Format | image/jpeg |
FOV | 18.6 deg |
GrainAmount | 0 |
GreenHue | 0 |
GreenSaturation | 0 |
HasCrop | True |
HasSettings | True |
Highlights2012 | -100 |
HueAdjustmentAqua | 0 |
HueAdjustmentBlue | 0 |
HueAdjustmentGreen | 0 |
HueAdjustmentMagenta | 0 |
HueAdjustmentOrange | 0 |
HueAdjustmentPurple | 0 |
HueAdjustmentRed | 0 |
HueAdjustmentYellow | 0 |
HyperfocalDistance | 45.73 m |
ImageHeight | 3031 |
ImageNumber | 0 |
ImageSize | 4547x3031 |
ImageWidth | 4547 |
IncrementalTemperature | 0 |
IncrementalTint | 0 |
ISO | 250 |
Lens | EF70-200mm f/4L IS USM |
LensID (1) | 242 |
LensID | Canon EF 70-200mm f/4L IS USM |
LensInfo | 70-200mm f/? |
LensManualDistortionAmount | 0 |
LensModel | EF70-200mm f/4L IS USM |
LensProfileEnable | 0 |
LensProfileSetup | LensDefaults |
LightValue | 15.3 |
LuminanceAdjustmentAqua | 0 |
LuminanceAdjustmentBlue | 0 |
LuminanceAdjustmentGreen | 0 |
LuminanceAdjustmentMagenta | 0 |
LuminanceAdjustmentOrange | 0 |
LuminanceAdjustmentPurple | 0 |
LuminanceAdjustmentRed | 0 |
LuminanceAdjustmentYellow | 0 |
LuminanceSmoothing | 0 |
Make | Canon |
MaxApertureValue | 4.0 |
Megapixels | 13.8 |
MeteringMode | Spot |
Model | Canon EOS 7D |
ModifyDate (1) | 2013:07:26 10:56:07+02:00 |
ModifyDate | 2013:07:26 10:56:07 |
ParametricDarks | 0 |
ParametricHighlights | 0 |
ParametricHighlightSplit | 75 |
ParametricLights | 0 |
ParametricMidtoneSplit | 50 |
ParametricShadows | 0 |
ParametricShadowSplit | 25 |
PerspectiveAspect | 0 |
PerspectiveHorizontal | 0 |
PerspectiveRotate | 0.0 |
PerspectiveScale | 100 |
PerspectiveUpright | 0 |
PerspectiveVertical | 0 |
PostCropVignetteAmount | -35 |
PostCropVignetteFeather | 50 |
PostCropVignetteHighlightContrast | 0 |
PostCropVignetteMidpoint | 50 |
PostCropVignetteRoundness | 0 |
PostCropVignetteStyle | 1 |
ProcessVersion | 6.7 |
ProfileDescription | sRGB IEC61966-2.1 |
RecommendedExposureIndex | 250 |
RedHue | 0 |
RedSaturation | 0 |
Rights | Rundtomveien 15. 1440 Drobak NORWAY Mobil:92808550 |
Saturation | 0 |
SaturationAdjustmentAqua | 0 |
SaturationAdjustmentBlue | 0 |
SaturationAdjustmentGreen | 0 |
SaturationAdjustmentMagenta | 0 |
SaturationAdjustmentOrange | 0 |
SaturationAdjustmentPurple | 0 |
SaturationAdjustmentRed | 0 |
SaturationAdjustmentYellow | 0 |
ScaleFactor35efl | 1.6 |
SceneCaptureType | Standard |
SensitivityType | Recommended Exposure Index |
SerialNumber | 1080706477 |
Shadows2012 | -20 |
ShadowTint | 0 |
SharpenDetail | 25 |
SharpenEdgeMasking | 0 |
SharpenRadius | +1.0 |
Sharpness | 0 |
ShutterSpeed | 1/3200 |
ShutterSpeedValue | 1/3200 |
Software | Adobe Photoshop Lightroom 5.0 (Macintosh) |
SplitToningBalance | 0 |
SplitToningHighlightHue | 0 |
SplitToningHighlightSaturation | 0 |
SplitToningShadowHue | 0 |
SplitToningShadowSaturation | 0 |
ToneCurveName2012 | Linear |
ToneCurvePV2012 | 0, 0, 255, 255 |
ToneCurvePV2012Blue | 0, 0, 255, 255 |
ToneCurvePV2012Green | 0, 0, 255, 255 |
ToneCurvePV2012Red | 0, 0, 255, 255 |
Version | 8.1 |
Vibrance | +25 |
VignetteAmount | 0 |
WhiteBalance (1) | As Shot |
WhiteBalance | Auto |
Whites2012 | -21 |