Felt | Verdi |
2014-01-12T18:58:59+01:00 File 887edit jan 12, 2014.tif saved
2014-01-12T19:01:43+01:00 File 55cqx, winter.jpg saved
2014-01-12T19:01:54+01:00 File _9976 edit and cut dec 286D66DB8F0B50734A7388D4396191ECFC.psb saved
2014-01-12T19:06:23+01:00 File 2244f, winter.jpg saved
AlreadyApplied | True |
Aperture | 6.7 |
ApertureValue | 6.7 |
AutoLateralCA | 0 |
BitsPerSample (1) | 16 16 16 |
BitsPerSample | 8 |
Blacks2012 | -9 |
BlueHue | 0 |
BlueSaturation | 0 |
Brightness | +50 |
CameraProfile | Adobe Standard |
CircleOfConfusion | 0.006 mm |
Clarity | 0 |
Clarity2012 | +41 |
ColorComponents | 1 |
ColorMode | RGB |
ColorNoiseReduction | 25 |
ColorNoiseReductionDetail | 50 |
ColorSpace | sRGB |
ColorTemperature | 5850 |
Contrast | +25 |
Contrast2012 | +55 |
ConvertToGrayscale | False |
CreateDate | 2013:03:06 15:18:03 |
CreatorTool | Adobe Photoshop CS6 (Macintosh) |
DateCreated (1) | 2013:03:06 |
DateCreated | 2013:03:06 15:18:03 |
DateTimeOriginal | 2013:03:06 15:18:03 |
Defringe | 0 |
DigitalZoomRatio | 0 |
ExifImageHeight | 714 |
ExifImageWidth | 1094 |
Exposure | 0.00 |
Exposure2012 | +0.90 |
ExposureCompensation | -0.664 |
ExposureMode | Manual |
ExposureProgram | Aperture-priority AE |
ExposureTime | 1/4000 |
FillLight | 0 |
Flash | No Flash |
FNumber | 6.7 |
Format | image/jpeg |
GrainAmount | 0 |
GreenHue | 0 |
GreenSaturation | 0 |
HasCrop | False |
HasSettings | True |
HighlightRecovery | 0 |
Highlights2012 | -14 |
HueAdjustmentAqua | 0 |
HueAdjustmentBlue | 0 |
HueAdjustmentGreen | 0 |
HueAdjustmentMagenta | 0 |
HueAdjustmentOrange | 0 |
HueAdjustmentPurple | 0 |
HueAdjustmentRed | 0 |
HueAdjustmentYellow | 0 |
ICCProfileName | sRGB IEC61966-2.1 |
ImageHeight (1) | 3419 |
ImageHeight | 714 |
ImageSize | 1094x714 |
ImageWidth (1) | 5242 |
ImageWidth | 1094 |
ISO | 160 |
LensManualDistortionAmount | 0 |
LensProfileEnable | 0 |
LensProfileSetup | LensDefaults |
LightSource | Unknown |
LightValue | 16.8 |
LuminanceAdjustmentAqua | 0 |
LuminanceAdjustmentBlue | 0 |
LuminanceAdjustmentGreen | 0 |
LuminanceAdjustmentMagenta | 0 |
LuminanceAdjustmentOrange | 0 |
LuminanceAdjustmentPurple | 0 |
LuminanceAdjustmentRed | 0 |
LuminanceAdjustmentYellow | 0 |
LuminanceNoiseReductionContrast | 0 |
LuminanceNoiseReductionDetail | 50 |
LuminanceSmoothing | 23 |
Make | Leica Camera AG |
MaxApertureValue | 1.0 |
Megapixels | 0.781 |
MeteringMode | Center-weighted average |
Model | M9 Digital Camera |
ModifyDate (1) | 2014:01:12 19:06:23+01:00 |
ModifyDate | 2014:01:12 19:06:23 |
Orientation | Horizontal (normal) |
ParametricDarks | -18 |
ParametricHighlights | 0 |
ParametricHighlightSplit | 75 |
ParametricLights | +28 |
ParametricMidtoneSplit | 50 |
ParametricShadows | +46 |
ParametricShadowSplit | 25 |
PerspectiveHorizontal | 0 |
PerspectiveRotate | 0.0 |
PerspectiveScale | 100 |
PerspectiveVertical | 0 |
PhotometricInterpretation | RGB |
PlanarConfiguration | Chunky |
PostCropVignetteAmount | 0 |
ProcessVersion | 6.7 |
ProfileDescription | sRGB IEC61966-2.1 |
Rating | 0 |
RawFileName | L1035800 copy copy.DNG |
RedHue | 0 |
RedSaturation | 0 |
Saturation | -26 |
SaturationAdjustmentAqua | -18 |
SaturationAdjustmentBlue | -2 |
SaturationAdjustmentGreen | -38 |
SaturationAdjustmentMagenta | 0 |
SaturationAdjustmentOrange | 0 |
SaturationAdjustmentPurple | 0 |
SaturationAdjustmentRed | 0 |
SaturationAdjustmentYellow | -15 |
ScaleFactor35efl | 4.8 |
SceneCaptureType | Standard |
SceneType | Directly photographed |
SerialNumber | 3972283 |
Shadows | 5 |
Shadows2012 | +100 |
ShadowTint | 0 |
SharpenDetail | 25 |
SharpenEdgeMasking | 24 |
SharpenRadius | +1.0 |
Sharpness | 0 |
ShutterSpeed | 1/4000 |
ShutterSpeedValue | 1/4000 |
Software | Adobe Photoshop CS6 (Macintosh) |
SplitToningBalance | 0 |
SplitToningHighlightHue | 0 |
SplitToningHighlightSaturation | 0 |
SplitToningShadowHue | 0 |
SplitToningShadowSaturation | 0 |
Tint | +8 |
ToneCurve | 0, 0, 32, 22, 64, 56, 128, 128, 192, 196, 255, 255 |
ToneCurveBlue | 0, 0, 255, 255 |
ToneCurveGreen | 0, 0, 255, 255 |
ToneCurveName | Medium Contrast |
ToneCurveName2012 | Linear |
ToneCurvePV2012 | 0, 0, 255, 255 |
ToneCurvePV2012Blue | 0, 0, 255, 255 |
ToneCurvePV2012Green | 0, 0, 255, 255 |
ToneCurvePV2012Red | 0, 0, 255, 255 |
ToneCurveRed | 0, 0, 255, 255 |
URL_List | |
Version | 7.0 |
Vibrance | +7 |
VignetteAmount | 0 |
WhiteBalance (1) | Custom |
WhiteBalance | Auto |
Whites2012 | +95 |